BEGIN:VCALENDAR
VERSION:2.0
PRODID:-//RAAL La Louvi&egrave;re - ECPv6.15.17.1//NONSGML v1.0//EN
CALSCALE:GREGORIAN
METHOD:PUBLISH
X-ORIGINAL-URL:https://www.raal.be
X-WR-CALDESC:Évènements pour RAAL La Louvi&egrave;re
REFRESH-INTERVAL;VALUE=DURATION:PT1H
X-Robots-Tag:noindex
X-PUBLISHED-TTL:PT1H
BEGIN:VTIMEZONE
TZID:Europe/Brussels
BEGIN:DAYLIGHT
TZOFFSETFROM:+0100
TZOFFSETTO:+0200
TZNAME:CEST
DTSTART:20240331T010000
END:DAYLIGHT
BEGIN:STANDARD
TZOFFSETFROM:+0200
TZOFFSETTO:+0100
TZNAME:CET
DTSTART:20241027T010000
END:STANDARD
BEGIN:DAYLIGHT
TZOFFSETFROM:+0100
TZOFFSETTO:+0200
TZNAME:CEST
DTSTART:20250330T010000
END:DAYLIGHT
BEGIN:STANDARD
TZOFFSETFROM:+0200
TZOFFSETTO:+0100
TZNAME:CET
DTSTART:20251026T010000
END:STANDARD
BEGIN:DAYLIGHT
TZOFFSETFROM:+0100
TZOFFSETTO:+0200
TZNAME:CEST
DTSTART:20260329T010000
END:DAYLIGHT
BEGIN:STANDARD
TZOFFSETFROM:+0200
TZOFFSETTO:+0100
TZNAME:CET
DTSTART:20261025T010000
END:STANDARD
BEGIN:DAYLIGHT
TZOFFSETFROM:+0100
TZOFFSETTO:+0200
TZNAME:CEST
DTSTART:20270328T010000
END:DAYLIGHT
BEGIN:STANDARD
TZOFFSETFROM:+0200
TZOFFSETTO:+0100
TZNAME:CET
DTSTART:20271031T010000
END:STANDARD
END:VTIMEZONE
BEGIN:VEVENT
DTSTART;TZID=Europe/Brussels:20260419T191500
DTEND;TZID=Europe/Brussels:20260419T191500
DTSTAMP:20260420T084244
CREATED:20260324T093534Z
LAST-MODIFIED:20260419T211725Z
UID:10000457-1776626100-1776626100@www.raal.be
SUMMARY:PlayOffs MD03 | RAAL - Zulte Waregem
DESCRIPTION:
URL:https://www.raal.be/event/playoffs-md03-raal-zulte-waregem/
LOCATION:Easi Arena\, Rue de Saint-Maur-des-Fossés 1\, La Louvière\, 7100\, Belgium
CATEGORIES:Match Hommes
ORGANIZER;CN="RAAL La Louvi%C3%A8re":MAILTO:info@raal.be
GEO:50.4780693;4.2003224
X-APPLE-STRUCTURED-LOCATION;VALUE=URI;X-ADDRESS=Easi Arena Rue de Saint-Maur-des-Fossés 1 La Louvière 7100 Belgium;X-APPLE-RADIUS=500;X-TITLE=Rue de Saint-Maur-des-Fossés 1:geo:4.2003224,50.4780693
END:VEVENT
BEGIN:VEVENT
DTSTART;TZID=Europe/Brussels:20260418T150000
DTEND;TZID=Europe/Brussels:20260418T150000
DTSTAMP:20260420T084244
CREATED:20251212T222049Z
LAST-MODIFIED:20251212T222049Z
UID:10000446-1776524400-1776524400@www.raal.be
SUMMARY:D1 | Famkes Diksmuide-Oostende – RAAL Women
DESCRIPTION:
URL:https://www.raal.be/event/d1-famkes-diksmuide-oostende-raal-women/
CATEGORIES:Match Dames
END:VEVENT
BEGIN:VEVENT
DTSTART;TZID=Europe/Brussels:20260411T160000
DTEND;TZID=Europe/Brussels:20260411T160000
DTSTAMP:20260420T084244
CREATED:20260324T093326Z
LAST-MODIFIED:20260411T162049Z
UID:10000456-1775923200-1775923200@www.raal.be
SUMMARY:PlayOffs MD02 | Cercle Bruges - RAAL
DESCRIPTION:
URL:https://www.raal.be/event/playoffs-md02-cercle-bruges-raal/
LOCATION:Jan Breydelstadion\, Bruges\, Belgium
CATEGORIES:Match Hommes
ORGANIZER;CN="RAAL La Louvi%C3%A8re":MAILTO:info@raal.be
END:VEVENT
BEGIN:VEVENT
DTSTART;TZID=Europe/Brussels:20260406T160000
DTEND;TZID=Europe/Brussels:20260406T160000
DTSTAMP:20260420T084244
CREATED:20260324T092803Z
LAST-MODIFIED:20260406T160923Z
UID:10000455-1775491200-1775491200@www.raal.be
SUMMARY:PlayOffs MD01 | RAAL - Dender
DESCRIPTION:
URL:https://www.raal.be/event/playoffs-md01-raal-dender/
LOCATION:Easi Arena\, Rue de Saint-Maur-des-Fossés 1\, La Louvière\, 7100\, Belgium
CATEGORIES:Match Hommes
ORGANIZER;CN="RAAL La Louvi%C3%A8re":MAILTO:info@raal.be
GEO:50.4780693;4.2003224
X-APPLE-STRUCTURED-LOCATION;VALUE=URI;X-ADDRESS=Easi Arena Rue de Saint-Maur-des-Fossés 1 La Louvière 7100 Belgium;X-APPLE-RADIUS=500;X-TITLE=Rue de Saint-Maur-des-Fossés 1:geo:4.2003224,50.4780693
END:VEVENT
BEGIN:VEVENT
DTSTART;TZID=Europe/Brussels:20260401T193000
DTEND;TZID=Europe/Brussels:20260401T193000
DTSTAMP:20260420T084244
CREATED:20251027T112808Z
LAST-MODIFIED:20260402T085620Z
UID:10000430-1775071800-1775071800@www.raal.be
SUMMARY:D1 | RAAL Women - OH Leuven B
DESCRIPTION:
URL:https://www.raal.be/event/d1-raal-women-oh-leuven-b/
LOCATION:Easi Arena\, Rue de Saint-Maur-des-Fossés 1\, La Louvière\, 7100\, Belgium
CATEGORIES:Match Dames
ORGANIZER;CN="RAAL La Louvi%C3%A8re":MAILTO:info@raal.be
GEO:50.4780693;4.2003224
X-APPLE-STRUCTURED-LOCATION;VALUE=URI;X-ADDRESS=Easi Arena Rue de Saint-Maur-des-Fossés 1 La Louvière 7100 Belgium;X-APPLE-RADIUS=500;X-TITLE=Rue de Saint-Maur-des-Fossés 1:geo:4.2003224,50.4780693
END:VEVENT
BEGIN:VEVENT
DTSTART;TZID=Europe/Brussels:20260328T170000
DTEND;TZID=Europe/Brussels:20260328T170000
DTSTAMP:20260420T084244
CREATED:20251212T222324Z
LAST-MODIFIED:20260330T081427Z
UID:10000448-1774717200-1774717200@www.raal.be
SUMMARY:D1 | Standard Femina B - RAAL Women
DESCRIPTION:
URL:https://www.raal.be/event/d1-standard-femina-b-raal-women/
CATEGORIES:Match Dames
END:VEVENT
BEGIN:VEVENT
DTSTART;TZID=Europe/Brussels:20260322T183000
DTEND;TZID=Europe/Brussels:20260322T183000
DTSTAMP:20260420T084244
CREATED:20251212T220931Z
LAST-MODIFIED:20260322T200505Z
UID:10000442-1774204200-1774204200@www.raal.be
SUMMARY:MD30 | RAAL – KRC Genk
DESCRIPTION:
URL:https://www.raal.be/event/md30-raal-krc-genk/
LOCATION:Easi Arena\, Rue de Saint-Maur-des-Fossés 1\, La Louvière\, 7100\, Belgium
CATEGORIES:Match Hommes
GEO:50.4780693;4.2003224
X-APPLE-STRUCTURED-LOCATION;VALUE=URI;X-ADDRESS=Easi Arena Rue de Saint-Maur-des-Fossés 1 La Louvière 7100 Belgium;X-APPLE-RADIUS=500;X-TITLE=Rue de Saint-Maur-des-Fossés 1:geo:4.2003224,50.4780693
END:VEVENT
BEGIN:VEVENT
DTSTART;TZID=Europe/Brussels:20260321T170000
DTEND;TZID=Europe/Brussels:20260321T170000
DTSTAMP:20260420T084244
CREATED:20251212T222518Z
LAST-MODIFIED:20260322T201350Z
UID:10000449-1774112400-1774112400@www.raal.be
SUMMARY:D1 | RAAL Women - Bilzen
DESCRIPTION:
URL:https://www.raal.be/event/raal-women-bilzen-2026/
LOCATION:Easi Arena\, Rue de Saint-Maur-des-Fossés 1\, La Louvière\, 7100\, Belgium
CATEGORIES:Match Dames
GEO:50.4780693;4.2003224
X-APPLE-STRUCTURED-LOCATION;VALUE=URI;X-ADDRESS=Easi Arena Rue de Saint-Maur-des-Fossés 1 La Louvière 7100 Belgium;X-APPLE-RADIUS=500;X-TITLE=Rue de Saint-Maur-des-Fossés 1:geo:4.2003224,50.4780693
END:VEVENT
BEGIN:VEVENT
DTSTART;TZID=Europe/Brussels:20260315T191500
DTEND;TZID=Europe/Brussels:20260315T191500
DTSTAMP:20260420T084244
CREATED:20251212T221004Z
LAST-MODIFIED:20260315T212409Z
UID:10000443-1773602100-1773602100@www.raal.be
SUMMARY:MD29 | Cercle Brugge - RAAL
DESCRIPTION:
URL:https://www.raal.be/event/md29-cercle-brugge-raal/
LOCATION:Jan Breydelstadion\, Bruges\, Belgium
CATEGORIES:Match Hommes
END:VEVENT
BEGIN:VEVENT
DTSTART;TZID=Europe/Brussels:20260314T160000
DTEND;TZID=Europe/Brussels:20260314T160000
DTSTAMP:20260420T084244
CREATED:20251212T222617Z
LAST-MODIFIED:20260315T212441Z
UID:10000450-1773504000-1773504000@www.raal.be
SUMMARY:D1 | KV Mechelen - RAAL Women
DESCRIPTION:
URL:https://www.raal.be/event/d1-kv-mechelen-raal-women/
CATEGORIES:Match Dames
END:VEVENT
BEGIN:VEVENT
DTSTART;TZID=Europe/Brussels:20260307T170000
DTEND;TZID=Europe/Brussels:20260307T170000
DTSTAMP:20260420T084244
CREATED:20251212T222721Z
LAST-MODIFIED:20260309T090834Z
UID:10000451-1772902800-1772902800@www.raal.be
SUMMARY:D1 | RAAL Women - White Star Femina
DESCRIPTION:
URL:https://www.raal.be/event/d1-raal-women-white-star-femina/
LOCATION:Easi Arena\, Rue de Saint-Maur-des-Fossés 1\, La Louvière\, 7100\, Belgium
CATEGORIES:Match Dames
GEO:50.4780693;4.2003224
X-APPLE-STRUCTURED-LOCATION;VALUE=URI;X-ADDRESS=Easi Arena Rue de Saint-Maur-des-Fossés 1 La Louvière 7100 Belgium;X-APPLE-RADIUS=500;X-TITLE=Rue de Saint-Maur-des-Fossés 1:geo:4.2003224,50.4780693
END:VEVENT
BEGIN:VEVENT
DTSTART;TZID=Europe/Brussels:20260306T204500
DTEND;TZID=Europe/Brussels:20260306T204500
DTSTAMP:20260420T084244
CREATED:20251212T221621Z
LAST-MODIFIED:20260306T224602Z
UID:10000445-1772829900-1772829900@www.raal.be
SUMMARY:MD28 | RAAL - Antwerp
DESCRIPTION:
URL:https://www.raal.be/event/md28-raal-antwerp/
LOCATION:Easi Arena\, Rue de Saint-Maur-des-Fossés 1\, La Louvière\, 7100\, Belgium
CATEGORIES:Match Hommes
GEO:50.4780693;4.2003224
X-APPLE-STRUCTURED-LOCATION;VALUE=URI;X-ADDRESS=Easi Arena Rue de Saint-Maur-des-Fossés 1 La Louvière 7100 Belgium;X-APPLE-RADIUS=500;X-TITLE=Rue de Saint-Maur-des-Fossés 1:geo:4.2003224,50.4780693
END:VEVENT
BEGIN:VEVENT
DTSTART;TZID=Europe/Brussels:20260227T204500
DTEND;TZID=Europe/Brussels:20260227T204500
DTSTAMP:20260420T084244
CREATED:20251212T215550Z
LAST-MODIFIED:20260227T223401Z
UID:10000441-1772225100-1772225100@www.raal.be
SUMMARY:MD27 | Standard - RAAL
DESCRIPTION:
URL:https://www.raal.be/event/md27-standard-raal/
LOCATION:Stade Maurice Dufrasne\, Liège\, Belgium
CATEGORIES:Match Hommes
END:VEVENT
BEGIN:VEVENT
DTSTART;TZID=Europe/Brussels:20260222T160000
DTEND;TZID=Europe/Brussels:20260222T160000
DTSTAMP:20260420T084244
CREATED:20251212T215327Z
LAST-MODIFIED:20260223T102632Z
UID:10000440-1771776000-1771776000@www.raal.be
SUMMARY:MD26 | RAAL - KV Mechelen
DESCRIPTION:
URL:https://www.raal.be/event/md26-raal-kv-mechelen/
LOCATION:Easi Arena\, Rue de Saint-Maur-des-Fossés 1\, La Louvière\, 7100\, Belgium
CATEGORIES:Match Hommes
GEO:50.4780693;4.2003224
X-APPLE-STRUCTURED-LOCATION;VALUE=URI;X-ADDRESS=Easi Arena Rue de Saint-Maur-des-Fossés 1 La Louvière 7100 Belgium;X-APPLE-RADIUS=500;X-TITLE=Rue de Saint-Maur-des-Fossés 1:geo:4.2003224,50.4780693
END:VEVENT
BEGIN:VEVENT
DTSTART;TZID=Europe/Brussels:20260215T183000
DTEND;TZID=Europe/Brussels:20260215T183000
DTSTAMP:20260420T084244
CREATED:20251212T215047Z
LAST-MODIFIED:20260215T211614Z
UID:10000439-1771180200-1771180200@www.raal.be
SUMMARY:MD25 | RSC Anderlecht - RAAL
DESCRIPTION:
URL:https://www.raal.be/event/md25-rsc-anderlecht-raal/
LOCATION:Lotto Park\, Anderlecht\, Belgium
CATEGORIES:Match Hommes
END:VEVENT
BEGIN:VEVENT
DTSTART;TZID=Europe/Brussels:20260214T170000
DTEND;TZID=Europe/Brussels:20260214T170000
DTSTAMP:20260420T084244
CREATED:20250924T080630Z
LAST-MODIFIED:20260215T113225Z
UID:10000421-1771088400-1771088400@www.raal.be
SUMMARY:D1 | RAEC Mons - RAAL Women
DESCRIPTION:
URL:https://www.raal.be/event/d1-raec-mons-raal-women/
LOCATION:Mons
CATEGORIES:Match Dames
ORGANIZER;CN="RAAL La Louvi%C3%A8re":MAILTO:info@raal.be
END:VEVENT
BEGIN:VEVENT
DTSTART;TZID=Europe/Brussels:20260208T160000
DTEND;TZID=Europe/Brussels:20260208T160000
DTSTAMP:20260420T084244
CREATED:20251212T214944Z
LAST-MODIFIED:20260208T182041Z
UID:10000438-1770566400-1770566400@www.raal.be
SUMMARY:MD24 | Union SG - RAAL
DESCRIPTION:
URL:https://www.raal.be/event/md24-union-sg-raal/
LOCATION:Stade Joseph Marien\, Forest\, Belgium
CATEGORIES:Match Hommes
END:VEVENT
BEGIN:VEVENT
DTSTART;TZID=Europe/Brussels:20260206T203000
DTEND;TZID=Europe/Brussels:20260206T203000
DTSTAMP:20260420T084244
CREATED:20251212T222820Z
LAST-MODIFIED:20260208T182032Z
UID:10000452-1770409800-1770409800@www.raal.be
SUMMARY:D1 | Zulte-Waregem - RAAL Women
DESCRIPTION:
URL:https://www.raal.be/event/d1-zulte-waregem-raal-women-2/
CATEGORIES:Match Dames
END:VEVENT
BEGIN:VEVENT
DTSTART;TZID=Europe/Brussels:20260131T200000
DTEND;TZID=Europe/Brussels:20260131T200000
DTSTAMP:20260420T084244
CREATED:20251212T222928Z
LAST-MODIFIED:20260202T095333Z
UID:10000453-1769889600-1769889600@www.raal.be
SUMMARY:D1 | KVK Tienen - RAAL Women
DESCRIPTION:
URL:https://www.raal.be/event/d1-kvk-tienen-raal-women/
CATEGORIES:Match Dames
END:VEVENT
BEGIN:VEVENT
DTSTART;TZID=Europe/Brussels:20260130T204500
DTEND;TZID=Europe/Brussels:20260130T204500
DTSTAMP:20260420T084244
CREATED:20251212T214823Z
LAST-MODIFIED:20260202T095341Z
UID:10000437-1769805900-1769805900@www.raal.be
SUMMARY:MD23 | RAAL - KAA Gent
DESCRIPTION:
URL:https://www.raal.be/event/md24-raal-kaa-gent/
LOCATION:Easi Arena\, Rue de Saint-Maur-des-Fossés 1\, La Louvière\, 7100\, Belgium
CATEGORIES:Match Hommes
GEO:50.4780693;4.2003224
X-APPLE-STRUCTURED-LOCATION;VALUE=URI;X-ADDRESS=Easi Arena Rue de Saint-Maur-des-Fossés 1 La Louvière 7100 Belgium;X-APPLE-RADIUS=500;X-TITLE=Rue de Saint-Maur-des-Fossés 1:geo:4.2003224,50.4780693
END:VEVENT
BEGIN:VEVENT
DTSTART;TZID=Europe/Brussels:20260124T170000
DTEND;TZID=Europe/Brussels:20260124T170000
DTSTAMP:20260420T084244
CREATED:20251212T223120Z
LAST-MODIFIED:20260126T102629Z
UID:10000454-1769274000-1769274000@www.raal.be
SUMMARY:D1 | RAAL Women - Olsa Brakel
DESCRIPTION:
URL:https://www.raal.be/event/d1-raal-women-olsa-brakel/
LOCATION:Wolves Academy\, Rue Saint-Julien\, 30B\, Strépy-Bracquegnies
CATEGORIES:Match Dames
GEO:50.4684921;4.1124622
X-APPLE-STRUCTURED-LOCATION;VALUE=URI;X-ADDRESS=Wolves Academy Rue Saint-Julien 30B Strépy-Bracquegnies;X-APPLE-RADIUS=500;X-TITLE=Rue Saint-Julien\, 30B:geo:4.1124622,50.4684921
END:VEVENT
BEGIN:VEVENT
DTSTART;TZID=Europe/Brussels:20260124T160000
DTEND;TZID=Europe/Brussels:20260124T160000
DTSTAMP:20260420T084244
CREATED:20251212T221311Z
LAST-MODIFIED:20260124T175446Z
UID:10000444-1769270400-1769270400@www.raal.be
SUMMARY:MD22 | RAAL - STVV
DESCRIPTION:
URL:https://www.raal.be/event/md22-raal-stvv/
LOCATION:Easi Arena\, Rue de Saint-Maur-des-Fossés 1\, La Louvière\, 7100\, Belgium
CATEGORIES:Match Hommes
GEO:50.4780693;4.2003224
X-APPLE-STRUCTURED-LOCATION;VALUE=URI;X-ADDRESS=Easi Arena Rue de Saint-Maur-des-Fossés 1 La Louvière 7100 Belgium;X-APPLE-RADIUS=500;X-TITLE=Rue de Saint-Maur-des-Fossés 1:geo:4.2003224,50.4780693
END:VEVENT
BEGIN:VEVENT
DTSTART;TZID=Europe/Brussels:20260117T163000
DTEND;TZID=Europe/Brussels:20260117T163000
DTSTAMP:20260420T084244
CREATED:20251027T112648Z
LAST-MODIFIED:20260119T100855Z
UID:10000429-1768667400-1768667400@www.raal.be
SUMMARY:D1 | Moldavo - RAAL Women
DESCRIPTION:
URL:https://www.raal.be/event/d1-moldavo-raal-women/
LOCATION:Mol
CATEGORIES:Match Dames
ORGANIZER;CN="RAAL La Louvi%C3%A8re":MAILTO:info@raal.be
END:VEVENT
BEGIN:VEVENT
DTSTART;TZID=Europe/Brussels:20260116T204500
DTEND;TZID=Europe/Brussels:20260116T204500
DTSTAMP:20260420T084244
CREATED:20251212T214536Z
LAST-MODIFIED:20260116T230951Z
UID:10000436-1768596300-1768596300@www.raal.be
SUMMARY:MD21 | Club Brugge - RAAL
DESCRIPTION:
URL:https://www.raal.be/event/md22-club-brugge-raal/
LOCATION:Jan Breydelstadion\, Bruges\, Belgium
CATEGORIES:Match Hommes
END:VEVENT
BEGIN:VEVENT
DTSTART;TZID=Europe/Brussels:20260113T203000
DTEND;TZID=Europe/Brussels:20260113T203000
DTSTAMP:20260420T084244
CREATED:20251204T225641Z
LAST-MODIFIED:20260113T231600Z
UID:10000434-1768336200-1768336200@www.raal.be
SUMMARY:Croky Cup | Antwerp - RAAL
DESCRIPTION:
URL:https://www.raal.be/event/croky-cup-antwerp-raal/
LOCATION:Bosuilstadion
CATEGORIES:Match Hommes
END:VEVENT
BEGIN:VEVENT
DTSTART;TZID=Europe/Brussels:20251227T160000
DTEND;TZID=Europe/Brussels:20251227T160000
DTSTAMP:20260420T084244
CREATED:20250903T095025Z
LAST-MODIFIED:20251228T101305Z
UID:10000413-1766851200-1766851200@www.raal.be
SUMMARY:MD20 | RAAL - OH Leuven
DESCRIPTION:
URL:https://www.raal.be/event/md21-raal-oh-leuven/
LOCATION:Easi Arena\, Rue de Saint-Maur-des-Fossés 1\, La Louvière\, 7100\, Belgium
CATEGORIES:Match Hommes
ORGANIZER;CN="RAAL La Louvi%C3%A8re":MAILTO:info@raal.be
GEO:50.4780693;4.2003224
X-APPLE-STRUCTURED-LOCATION;VALUE=URI;X-ADDRESS=Easi Arena Rue de Saint-Maur-des-Fossés 1 La Louvière 7100 Belgium;X-APPLE-RADIUS=500;X-TITLE=Rue de Saint-Maur-des-Fossés 1:geo:4.2003224,50.4780693
END:VEVENT
BEGIN:VEVENT
DTSTART;TZID=Europe/Brussels:20251220T181500
DTEND;TZID=Europe/Brussels:20251220T181500
DTSTAMP:20260420T084244
CREATED:20250903T094834Z
LAST-MODIFIED:20251220T214354Z
UID:10000412-1766254500-1766254500@www.raal.be
SUMMARY:MD19 | KVC Westerlo – RAAL
DESCRIPTION:
URL:https://www.raal.be/event/md20-kvc-westerlo-raal/
LOCATION:Het Kuipje\, Westerlo
CATEGORIES:Match Hommes
ORGANIZER;CN="RAAL La Louvi%C3%A8re":MAILTO:info@raal.be
GEO:51.0899291;4.9143336
END:VEVENT
BEGIN:VEVENT
DTSTART;TZID=Europe/Brussels:20251213T181500
DTEND;TZID=Europe/Brussels:20251213T181500
DTSTAMP:20260420T084244
CREATED:20250903T094532Z
LAST-MODIFIED:20251214T093707Z
UID:10000411-1765649700-1765649700@www.raal.be
SUMMARY:MD18 | Zulte-Waregem – RAAL
DESCRIPTION:
URL:https://www.raal.be/event/md19-zulte-waregem-raal/
LOCATION:Elindus Arena\, Waregem
CATEGORIES:Match Hommes
ORGANIZER;CN="RAAL La Louvi%C3%A8re":MAILTO:info@raal.be
GEO:50.882891;3.4282647
END:VEVENT
BEGIN:VEVENT
DTSTART;TZID=Europe/Brussels:20251210T193000
DTEND;TZID=Europe/Brussels:20251210T193000
DTSTAMP:20260420T084244
CREATED:20250913T075723Z
LAST-MODIFIED:20251214T093642Z
UID:10000419-1765395000-1765395000@www.raal.be
SUMMARY:D1 | RAAL Women - KV Mechelen
DESCRIPTION:
URL:https://www.raal.be/event/d1-raal-women-kv-mechelen/
LOCATION:Easi Arena\, Rue de Saint-Maur-des-Fossés 1\, La Louvière\, 7100\, Belgium
CATEGORIES:Match Dames
ORGANIZER;CN="RAAL La Louvi%C3%A8re":MAILTO:info@raal.be
GEO:50.4780693;4.2003224
X-APPLE-STRUCTURED-LOCATION;VALUE=URI;X-ADDRESS=Easi Arena Rue de Saint-Maur-des-Fossés 1 La Louvière 7100 Belgium;X-APPLE-RADIUS=500;X-TITLE=Rue de Saint-Maur-des-Fossés 1:geo:4.2003224,50.4780693
END:VEVENT
BEGIN:VEVENT
DTSTART;TZID=Europe/Brussels:20251206T170000
DTEND;TZID=Europe/Brussels:20251206T170000
DTSTAMP:20260420T084244
CREATED:20251121T103057Z
LAST-MODIFIED:20251208T102330Z
UID:10000432-1765040400-1765040400@www.raal.be
SUMMARY:D1 | RAAL Women - Club YLA
DESCRIPTION:
URL:https://www.raal.be/event/d1-raal-women-club-yla/
LOCATION:Wolves Academy\, Rue Saint-Julien\, 30B\, Strépy-Bracquegnies
CATEGORIES:Match Dames
GEO:50.4684921;4.1124622
X-APPLE-STRUCTURED-LOCATION;VALUE=URI;X-ADDRESS=Wolves Academy Rue Saint-Julien 30B Strépy-Bracquegnies;X-APPLE-RADIUS=500;X-TITLE=Rue Saint-Julien\, 30B:geo:4.1124622,50.4684921
END:VEVENT
END:VCALENDAR