BEGIN:VCALENDAR
VERSION:2.0
PRODID:-//RAAL La Louvi&egrave;re - ECPv6.15.17.1//NONSGML v1.0//EN
CALSCALE:GREGORIAN
METHOD:PUBLISH
X-WR-CALNAME:RAAL La Louvi&egrave;re
X-ORIGINAL-URL:https://www.raal.be
X-WR-CALDESC:Évènements pour RAAL La Louvi&egrave;re
REFRESH-INTERVAL;VALUE=DURATION:PT1H
X-Robots-Tag:noindex
X-PUBLISHED-TTL:PT1H
BEGIN:VTIMEZONE
TZID:Europe/Brussels
BEGIN:DAYLIGHT
TZOFFSETFROM:+0100
TZOFFSETTO:+0200
TZNAME:CEST
DTSTART:20200329T010000
END:DAYLIGHT
BEGIN:STANDARD
TZOFFSETFROM:+0200
TZOFFSETTO:+0100
TZNAME:CET
DTSTART:20201025T010000
END:STANDARD
BEGIN:DAYLIGHT
TZOFFSETFROM:+0100
TZOFFSETTO:+0200
TZNAME:CEST
DTSTART:20210328T010000
END:DAYLIGHT
BEGIN:STANDARD
TZOFFSETFROM:+0200
TZOFFSETTO:+0100
TZNAME:CET
DTSTART:20211031T010000
END:STANDARD
BEGIN:DAYLIGHT
TZOFFSETFROM:+0100
TZOFFSETTO:+0200
TZNAME:CEST
DTSTART:20220327T010000
END:DAYLIGHT
BEGIN:STANDARD
TZOFFSETFROM:+0200
TZOFFSETTO:+0100
TZNAME:CET
DTSTART:20221030T010000
END:STANDARD
BEGIN:DAYLIGHT
TZOFFSETFROM:+0100
TZOFFSETTO:+0200
TZNAME:CEST
DTSTART:20230326T010000
END:DAYLIGHT
BEGIN:STANDARD
TZOFFSETFROM:+0200
TZOFFSETTO:+0100
TZNAME:CET
DTSTART:20231029T010000
END:STANDARD
BEGIN:DAYLIGHT
TZOFFSETFROM:+0100
TZOFFSETTO:+0200
TZNAME:CEST
DTSTART:20240331T010000
END:DAYLIGHT
BEGIN:STANDARD
TZOFFSETFROM:+0200
TZOFFSETTO:+0100
TZNAME:CET
DTSTART:20241027T010000
END:STANDARD
END:VTIMEZONE
BEGIN:VEVENT
DTSTART;TZID=Europe/Brussels:20230305T150000
DTEND;TZID=Europe/Brussels:20230305T150000
DTSTAMP:20260421T120647
CREATED:20220623T105643Z
LAST-MODIFIED:20230308T100745Z
UID:10000284-1678028400-1678028400@www.raal.be
SUMMARY:Journée 27 : Louvain U23 - RAAL
DESCRIPTION:
URL:https://www.raal.be/event/journee-27-louvain-u23-raal/
LOCATION:Rue des Canadiens\, Strépy-Bracquegnies\, Hainaut\, 7110\, Belgium
CATEGORIES:Match Hommes
GEO:50.4649593;4.1154038
X-APPLE-STRUCTURED-LOCATION;VALUE=URI;X-ADDRESS=Rue des Canadiens Strépy-Bracquegnies Hainaut 7110 Belgium;X-APPLE-RADIUS=500;X-TITLE=Rue des Canadiens:geo:4.1154038,50.4649593
END:VEVENT
BEGIN:VEVENT
DTSTART;TZID=Europe/Brussels:20221022T193000
DTEND;TZID=Europe/Brussels:20221022T193000
DTSTAMP:20260421T120647
CREATED:20220623T101129Z
LAST-MODIFIED:20221027T140205Z
UID:10000257-1666467000-1666467000@www.raal.be
SUMMARY:Journée 10 : La Gantoise U23 - RAAL
DESCRIPTION:
URL:https://www.raal.be/event/journee-10-la-gantoise-u23-raal/
LOCATION:Rue des Canadiens\, Strépy-Bracquegnies\, Hainaut\, 7110\, Belgium
CATEGORIES:Match Hommes
GEO:50.4649593;4.1154038
X-APPLE-STRUCTURED-LOCATION;VALUE=URI;X-ADDRESS=Rue des Canadiens Strépy-Bracquegnies Hainaut 7110 Belgium;X-APPLE-RADIUS=500;X-TITLE=Rue des Canadiens:geo:4.1154038,50.4649593
END:VEVENT
BEGIN:VEVENT
DTSTART;TZID=Europe/Brussels:20220501T150000
DTEND;TZID=Europe/Brussels:20220501T150000
DTSTAMP:20260421T120647
CREATED:20210706T092600Z
LAST-MODIFIED:20220502T085740Z
UID:10000229-1651417200-1651417200@www.raal.be
SUMMARY:D2 ACFF (J30) : Lessines - RAAL
DESCRIPTION:
URL:https://www.raal.be/event/d2-acff-j30-lessines-raal/
LOCATION:Rue des Canadiens\, Strépy-Bracquegnies\, Hainaut\, 7110\, Belgium
CATEGORIES:Match Hommes
GEO:50.4649593;4.1154038
X-APPLE-STRUCTURED-LOCATION;VALUE=URI;X-ADDRESS=Rue des Canadiens Strépy-Bracquegnies Hainaut 7110 Belgium;X-APPLE-RADIUS=500;X-TITLE=Rue des Canadiens:geo:4.1154038,50.4649593
END:VEVENT
BEGIN:VEVENT
DTSTART;TZID=Europe/Brussels:20220424T150000
DTEND;TZID=Europe/Brussels:20220424T150000
DTSTAMP:20260421T120647
CREATED:20210706T092449Z
LAST-MODIFIED:20220425T082149Z
UID:10000228-1650812400-1650812400@www.raal.be
SUMMARY:D2 ACFF (J29) : RAAL - Rebecq
DESCRIPTION:
URL:https://www.raal.be/event/d2-acff-j29-raal-rebecq/
LOCATION:Rue des Canadiens\, Strépy-Bracquegnies\, Hainaut\, 7110\, Belgium
CATEGORIES:Match Hommes
GEO:50.4649593;4.1154038
X-APPLE-STRUCTURED-LOCATION;VALUE=URI;X-ADDRESS=Rue des Canadiens Strépy-Bracquegnies Hainaut 7110 Belgium;X-APPLE-RADIUS=500;X-TITLE=Rue des Canadiens:geo:4.1154038,50.4649593
END:VEVENT
BEGIN:VEVENT
DTSTART;TZID=Europe/Brussels:20220410T150000
DTEND;TZID=Europe/Brussels:20220410T150000
DTSTAMP:20260421T120647
CREATED:20210706T092341Z
LAST-MODIFIED:20220415T100939Z
UID:10000227-1649602800-1649602800@www.raal.be
SUMMARY:D2 ACFF (J28) : Warnant - RAAL
DESCRIPTION:
URL:https://www.raal.be/event/d2-acff-j28-warnant-raal/
LOCATION:Rue des Canadiens\, Strépy-Bracquegnies\, Hainaut\, 7110\, Belgium
CATEGORIES:Match Hommes
GEO:50.4649593;4.1154038
X-APPLE-STRUCTURED-LOCATION;VALUE=URI;X-ADDRESS=Rue des Canadiens Strépy-Bracquegnies Hainaut 7110 Belgium;X-APPLE-RADIUS=500;X-TITLE=Rue des Canadiens:geo:4.1154038,50.4649593
END:VEVENT
BEGIN:VEVENT
DTSTART;TZID=Europe/Brussels:20220402T200000
DTEND;TZID=Europe/Brussels:20220402T200000
DTSTAMP:20260421T120647
CREATED:20210706T092227Z
LAST-MODIFIED:20220404T094658Z
UID:10000226-1648929600-1648929600@www.raal.be
SUMMARY:D2 ACFF (J27) : RAAL - Ganshoren
DESCRIPTION:
URL:https://www.raal.be/event/d2-acff-j27-raal-ganshoren/
LOCATION:Rue des Canadiens\, Strépy-Bracquegnies\, Hainaut\, 7110\, Belgium
CATEGORIES:Match Hommes
GEO:50.4649593;4.1154038
X-APPLE-STRUCTURED-LOCATION;VALUE=URI;X-ADDRESS=Rue des Canadiens Strépy-Bracquegnies Hainaut 7110 Belgium;X-APPLE-RADIUS=500;X-TITLE=Rue des Canadiens:geo:4.1154038,50.4649593
END:VEVENT
BEGIN:VEVENT
DTSTART;TZID=Europe/Brussels:20220327T150000
DTEND;TZID=Europe/Brussels:20220327T150000
DTSTAMP:20260421T120647
CREATED:20210706T091121Z
LAST-MODIFIED:20220328T104511Z
UID:10000219-1648393200-1648393200@www.raal.be
SUMMARY:D2 ACFF (J20) : Waremme - RAAL
DESCRIPTION:
URL:https://www.raal.be/event/d2-acff-j20-waremme-raal/
LOCATION:Rue des Canadiens\, Strépy-Bracquegnies\, Hainaut\, 7110\, Belgium
CATEGORIES:Match Hommes
GEO:50.4649593;4.1154038
X-APPLE-STRUCTURED-LOCATION;VALUE=URI;X-ADDRESS=Rue des Canadiens Strépy-Bracquegnies Hainaut 7110 Belgium;X-APPLE-RADIUS=500;X-TITLE=Rue des Canadiens:geo:4.1154038,50.4649593
END:VEVENT
BEGIN:VEVENT
DTSTART;TZID=Europe/Brussels:20220319T200000
DTEND;TZID=Europe/Brussels:20220319T200000
DTSTAMP:20260421T120647
CREATED:20210706T092117Z
LAST-MODIFIED:20220322T140544Z
UID:10000225-1647720000-1647720000@www.raal.be
SUMMARY:D2 ACFF (J26) : RAAL - Tubize
DESCRIPTION:
URL:https://www.raal.be/event/d2-acff-j26-raal-tubize/
LOCATION:Rue des Canadiens\, Strépy-Bracquegnies\, Hainaut\, 7110\, Belgium
CATEGORIES:Match Hommes
GEO:50.4649593;4.1154038
X-APPLE-STRUCTURED-LOCATION;VALUE=URI;X-ADDRESS=Rue des Canadiens Strépy-Bracquegnies Hainaut 7110 Belgium;X-APPLE-RADIUS=500;X-TITLE=Rue des Canadiens:geo:4.1154038,50.4649593
END:VEVENT
BEGIN:VEVENT
DTSTART;TZID=Europe/Brussels:20220312T193000
DTEND;TZID=Europe/Brussels:20220312T193000
DTSTAMP:20260421T120647
CREATED:20210706T091931Z
LAST-MODIFIED:20220317T151325Z
UID:10000224-1647113400-1647113400@www.raal.be
SUMMARY:D2 ACFF (J25) : Verlaine - RAAL
DESCRIPTION:
URL:https://www.raal.be/event/d2-acff-j25-verlaine-raal/
LOCATION:Rue des Canadiens\, Strépy-Bracquegnies\, Hainaut\, 7110\, Belgium
CATEGORIES:Match Hommes
GEO:50.4649593;4.1154038
X-APPLE-STRUCTURED-LOCATION;VALUE=URI;X-ADDRESS=Rue des Canadiens Strépy-Bracquegnies Hainaut 7110 Belgium;X-APPLE-RADIUS=500;X-TITLE=Rue des Canadiens:geo:4.1154038,50.4649593
END:VEVENT
BEGIN:VEVENT
DTSTART;TZID=Europe/Brussels:20220306T150000
DTEND;TZID=Europe/Brussels:20220306T150000
DTSTAMP:20260421T120647
CREATED:20210706T091802Z
LAST-MODIFIED:20220307T130238Z
UID:10000223-1646578800-1646578800@www.raal.be
SUMMARY:D2 ACFF (J24) : Hamoir - RAAL
DESCRIPTION:
URL:https://www.raal.be/event/d2-acff-j24-hamoir-raal/
LOCATION:Rue des Canadiens\, Strépy-Bracquegnies\, Hainaut\, 7110\, Belgium
CATEGORIES:Match Hommes
GEO:50.4649593;4.1154038
X-APPLE-STRUCTURED-LOCATION;VALUE=URI;X-ADDRESS=Rue des Canadiens Strépy-Bracquegnies Hainaut 7110 Belgium;X-APPLE-RADIUS=500;X-TITLE=Rue des Canadiens:geo:4.1154038,50.4649593
END:VEVENT
BEGIN:VEVENT
DTSTART;TZID=Europe/Brussels:20220302T200000
DTEND;TZID=Europe/Brussels:20220302T200000
DTSTAMP:20260421T120647
CREATED:20210706T090729Z
LAST-MODIFIED:20220307T130337Z
UID:10000216-1646251200-1646251200@www.raal.be
SUMMARY:D2 ACFF (J17) : Givry - RAAL
DESCRIPTION:
URL:https://www.raal.be/event/d2-acff-j17-givry-raal/
LOCATION:Rue des Canadiens\, Strépy-Bracquegnies\, Hainaut\, 7110\, Belgium
CATEGORIES:Match Hommes
GEO:50.4649593;4.1154038
X-APPLE-STRUCTURED-LOCATION;VALUE=URI;X-ADDRESS=Rue des Canadiens Strépy-Bracquegnies Hainaut 7110 Belgium;X-APPLE-RADIUS=500;X-TITLE=Rue des Canadiens:geo:4.1154038,50.4649593
END:VEVENT
BEGIN:VEVENT
DTSTART;TZID=Europe/Brussels:20220227T143000
DTEND;TZID=Europe/Brussels:20220227T143000
DTSTAMP:20260421T120647
CREATED:20210706T090844Z
LAST-MODIFIED:20220307T130923Z
UID:10000217-1645972200-1645972200@www.raal.be
SUMMARY:D2 ACFF (J18) : Solières - RAAL
DESCRIPTION:
URL:https://www.raal.be/event/d2-acff-j18-solieres-raal/
LOCATION:Rue des Canadiens\, Strépy-Bracquegnies\, Hainaut\, 7110\, Belgium
CATEGORIES:Match Hommes
GEO:50.4649593;4.1154038
X-APPLE-STRUCTURED-LOCATION;VALUE=URI;X-ADDRESS=Rue des Canadiens Strépy-Bracquegnies Hainaut 7110 Belgium;X-APPLE-RADIUS=500;X-TITLE=Rue des Canadiens:geo:4.1154038,50.4649593
END:VEVENT
BEGIN:VEVENT
DTSTART;TZID=Europe/Brussels:20220219T200000
DTEND;TZID=Europe/Brussels:20220219T200000
DTSTAMP:20260421T120647
CREATED:20210706T091650Z
LAST-MODIFIED:20220221T100442Z
UID:10000222-1645300800-1645300800@www.raal.be
SUMMARY:D2 ACFF (J23) : RAAL - Couvin
DESCRIPTION:
URL:https://www.raal.be/event/d2-acff-j23-raal-couvin/
LOCATION:Rue des Canadiens\, Strépy-Bracquegnies\, Hainaut\, 7110\, Belgium
CATEGORIES:Match Hommes
GEO:50.4649593;4.1154038
X-APPLE-STRUCTURED-LOCATION;VALUE=URI;X-ADDRESS=Rue des Canadiens Strépy-Bracquegnies Hainaut 7110 Belgium;X-APPLE-RADIUS=500;X-TITLE=Rue des Canadiens:geo:4.1154038,50.4649593
END:VEVENT
BEGIN:VEVENT
DTSTART;TZID=Europe/Brussels:20220213T143000
DTEND;TZID=Europe/Brussels:20220213T143000
DTSTAMP:20260421T120647
CREATED:20210706T091524Z
LAST-MODIFIED:20220221T100232Z
UID:10000221-1644762600-1644762600@www.raal.be
SUMMARY:D2 ACFF (J22) : Jette - RAAL
DESCRIPTION:
URL:https://www.raal.be/event/d2-acff-j22-jette-raal/
LOCATION:Rue des Canadiens\, Strépy-Bracquegnies\, Hainaut\, 7110\, Belgium
CATEGORIES:Match Hommes
GEO:50.4649593;4.1154038
X-APPLE-STRUCTURED-LOCATION;VALUE=URI;X-ADDRESS=Rue des Canadiens Strépy-Bracquegnies Hainaut 7110 Belgium;X-APPLE-RADIUS=500;X-TITLE=Rue des Canadiens:geo:4.1154038,50.4649593
END:VEVENT
BEGIN:VEVENT
DTSTART;TZID=Europe/Brussels:20220205T200000
DTEND;TZID=Europe/Brussels:20220205T200000
DTSTAMP:20260421T120647
CREATED:20210706T091309Z
LAST-MODIFIED:20220207T142942Z
UID:10000220-1644091200-1644091200@www.raal.be
SUMMARY:D2 ACFF (J21) : RAAL - Durbuy
DESCRIPTION:
URL:https://www.raal.be/event/d2-acff-j21-raal-durbuy/
LOCATION:Rue des Canadiens\, Strépy-Bracquegnies\, Hainaut\, 7110\, Belgium
CATEGORIES:Match Hommes
GEO:50.4649593;4.1154038
X-APPLE-STRUCTURED-LOCATION;VALUE=URI;X-ADDRESS=Rue des Canadiens Strépy-Bracquegnies Hainaut 7110 Belgium;X-APPLE-RADIUS=500;X-TITLE=Rue des Canadiens:geo:4.1154038,50.4649593
END:VEVENT
BEGIN:VEVENT
DTSTART;TZID=Europe/Brussels:20220129T200000
DTEND;TZID=Europe/Brussels:20220129T200000
DTSTAMP:20260421T120647
CREATED:20210706T091002Z
LAST-MODIFIED:20220131T102402Z
UID:10000218-1643486400-1643486400@www.raal.be
SUMMARY:D2 ACFF (J19) : RAAL - Stockay
DESCRIPTION:
URL:https://www.raal.be/event/d2-acff-j19-raal-stockay/
LOCATION:Rue des Canadiens\, Strépy-Bracquegnies\, Hainaut\, 7110\, Belgium
CATEGORIES:Match Hommes
GEO:50.4649593;4.1154038
X-APPLE-STRUCTURED-LOCATION;VALUE=URI;X-ADDRESS=Rue des Canadiens Strépy-Bracquegnies Hainaut 7110 Belgium;X-APPLE-RADIUS=500;X-TITLE=Rue des Canadiens:geo:4.1154038,50.4649593
END:VEVENT
BEGIN:VEVENT
DTSTART;TZID=Europe/Brussels:20211211T200000
DTEND;TZID=Europe/Brussels:20211211T200000
DTSTAMP:20260421T120647
CREATED:20210706T090609Z
LAST-MODIFIED:20211213T110101Z
UID:10000215-1639252800-1639252800@www.raal.be
SUMMARY:D2 ACFF (J16) : RAAL - Meux
DESCRIPTION:
URL:https://www.raal.be/event/d2-acff-j16-raal-meux/
LOCATION:Rue des Canadiens\, Strépy-Bracquegnies\, Hainaut\, 7110\, Belgium
CATEGORIES:Match Hommes
GEO:50.4649593;4.1154038
X-APPLE-STRUCTURED-LOCATION;VALUE=URI;X-ADDRESS=Rue des Canadiens Strépy-Bracquegnies Hainaut 7110 Belgium;X-APPLE-RADIUS=500;X-TITLE=Rue des Canadiens:geo:4.1154038,50.4649593
END:VEVENT
BEGIN:VEVENT
DTSTART;TZID=Europe/Brussels:20211205T143000
DTEND;TZID=Europe/Brussels:20211205T143000
DTSTAMP:20260421T120647
CREATED:20210706T090505Z
LAST-MODIFIED:20211206T155453Z
UID:10000214-1638714600-1638714600@www.raal.be
SUMMARY:D2 ACFF (J15) : Rebecq - RAAL
DESCRIPTION:
URL:https://www.raal.be/event/d2-acff-j15-rebecq-raal/
LOCATION:Rue des Canadiens\, Strépy-Bracquegnies\, Hainaut\, 7110\, Belgium
CATEGORIES:Match Hommes
GEO:50.4649593;4.1154038
X-APPLE-STRUCTURED-LOCATION;VALUE=URI;X-ADDRESS=Rue des Canadiens Strépy-Bracquegnies Hainaut 7110 Belgium;X-APPLE-RADIUS=500;X-TITLE=Rue des Canadiens:geo:4.1154038,50.4649593
END:VEVENT
BEGIN:VEVENT
DTSTART;TZID=Europe/Brussels:20211120T193000
DTEND;TZID=Europe/Brussels:20211120T193000
DTSTAMP:20260421T120647
CREATED:20210706T090135Z
LAST-MODIFIED:20211122T114025Z
UID:10000212-1637436600-1637436600@www.raal.be
SUMMARY:D2 ACFF (J13) : Durbuy - RAAL
DESCRIPTION:
URL:https://www.raal.be/event/d2-acff-j13-durbuy-raal/
LOCATION:Rue des Canadiens\, Strépy-Bracquegnies\, Hainaut\, 7110\, Belgium
CATEGORIES:Match Hommes
GEO:50.4649593;4.1154038
X-APPLE-STRUCTURED-LOCATION;VALUE=URI;X-ADDRESS=Rue des Canadiens Strépy-Bracquegnies Hainaut 7110 Belgium;X-APPLE-RADIUS=500;X-TITLE=Rue des Canadiens:geo:4.1154038,50.4649593
END:VEVENT
BEGIN:VEVENT
DTSTART;TZID=Europe/Brussels:20211106T200000
DTEND;TZID=Europe/Brussels:20211106T200000
DTSTAMP:20260421T120647
CREATED:20210706T085815Z
LAST-MODIFIED:20211122T113948Z
UID:10000210-1636228800-1636228800@www.raal.be
SUMMARY:D2 ACFF (J11) : Tubize - RAAL
DESCRIPTION:
URL:https://www.raal.be/event/d2-acff-j11-tubize-raal/
LOCATION:Rue des Canadiens\, Strépy-Bracquegnies\, Hainaut\, 7110\, Belgium
CATEGORIES:Match Hommes
GEO:50.4649593;4.1154038
X-APPLE-STRUCTURED-LOCATION;VALUE=URI;X-ADDRESS=Rue des Canadiens Strépy-Bracquegnies Hainaut 7110 Belgium;X-APPLE-RADIUS=500;X-TITLE=Rue des Canadiens:geo:4.1154038,50.4649593
END:VEVENT
BEGIN:VEVENT
DTSTART;TZID=Europe/Brussels:20211017T150000
DTEND;TZID=Europe/Brussels:20211017T150000
DTSTAMP:20260421T120647
CREATED:20210706T085400Z
LAST-MODIFIED:20211019T091949Z
UID:10000207-1634482800-1634482800@www.raal.be
SUMMARY:D2 ACFF (J08) : Couvin - RAAL
DESCRIPTION:
URL:https://www.raal.be/event/d2-acff-j08-couvin-raal/
LOCATION:Rue des Canadiens\, Strépy-Bracquegnies\, Hainaut\, 7110\, Belgium
CATEGORIES:Match Hommes
GEO:50.4649593;4.1154038
X-APPLE-STRUCTURED-LOCATION;VALUE=URI;X-ADDRESS=Rue des Canadiens Strépy-Bracquegnies Hainaut 7110 Belgium;X-APPLE-RADIUS=500;X-TITLE=Rue des Canadiens:geo:4.1154038,50.4649593
END:VEVENT
BEGIN:VEVENT
DTSTART;TZID=Europe/Brussels:20211002T200000
DTEND;TZID=Europe/Brussels:20211002T200000
DTSTAMP:20260421T120647
CREATED:20210706T085053Z
LAST-MODIFIED:20211004T144235Z
UID:10000205-1633204800-1633204800@www.raal.be
SUMMARY:D2 ACFF (J06) : Meux - RAAL
DESCRIPTION:
URL:https://www.raal.be/event/d2-acff-j06-meux-raal/
LOCATION:Rue des Canadiens\, Strépy-Bracquegnies\, Hainaut\, 7110\, Belgium
CATEGORIES:Match Hommes
GEO:50.4649593;4.1154038
X-APPLE-STRUCTURED-LOCATION;VALUE=URI;X-ADDRESS=Rue des Canadiens Strépy-Bracquegnies Hainaut 7110 Belgium;X-APPLE-RADIUS=500;X-TITLE=Rue des Canadiens:geo:4.1154038,50.4649593
END:VEVENT
BEGIN:VEVENT
DTSTART;TZID=Europe/Brussels:20210919T150000
DTEND;TZID=Europe/Brussels:20210919T150000
DTSTAMP:20260421T120647
CREATED:20210706T084748Z
LAST-MODIFIED:20210924T160900Z
UID:10000203-1632063600-1632063600@www.raal.be
SUMMARY:D2 ACFF (J04) : Stockay - RAAL
DESCRIPTION:
URL:https://www.raal.be/event/d2-acff-j04-stockay-raal/
LOCATION:Rue des Canadiens\, Strépy-Bracquegnies\, Hainaut\, 7110\, Belgium
CATEGORIES:Match Hommes
GEO:50.4649593;4.1154038
X-APPLE-STRUCTURED-LOCATION;VALUE=URI;X-ADDRESS=Rue des Canadiens Strépy-Bracquegnies Hainaut 7110 Belgium;X-APPLE-RADIUS=500;X-TITLE=Rue des Canadiens:geo:4.1154038,50.4649593
END:VEVENT
BEGIN:VEVENT
DTSTART;TZID=Europe/Brussels:20210911T200000
DTEND;TZID=Europe/Brussels:20210911T200000
DTSTAMP:20260421T120647
CREATED:20210706T084534Z
LAST-MODIFIED:20210913T124424Z
UID:10000202-1631390400-1631390400@www.raal.be
SUMMARY:D2 ACFF (J03) : RAAL - Jette
DESCRIPTION:
URL:https://www.raal.be/event/d2-acff-j03-raal-jette/
LOCATION:Rue des Canadiens\, Strépy-Bracquegnies\, Hainaut\, 7110\, Belgium
CATEGORIES:Match Hommes
GEO:50.4649593;4.1154038
X-APPLE-STRUCTURED-LOCATION;VALUE=URI;X-ADDRESS=Rue des Canadiens Strépy-Bracquegnies Hainaut 7110 Belgium;X-APPLE-RADIUS=500;X-TITLE=Rue des Canadiens:geo:4.1154038,50.4649593
END:VEVENT
BEGIN:VEVENT
DTSTART;TZID=Europe/Brussels:20210905T150000
DTEND;TZID=Europe/Brussels:20210905T150000
DTSTAMP:20260421T120647
CREATED:20210705T122707Z
LAST-MODIFIED:20210906T080528Z
UID:10000201-1630854000-1630854000@www.raal.be
SUMMARY:D2 ACFF (J02) : Ganshoren - RAAL
DESCRIPTION:
URL:https://www.raal.be/event/d2-acff-j02-ganshoren-raal/
LOCATION:Rue des Canadiens\, Strépy-Bracquegnies\, Hainaut\, 7110\, Belgium
CATEGORIES:Match Hommes
GEO:50.4649593;4.1154038
X-APPLE-STRUCTURED-LOCATION;VALUE=URI;X-ADDRESS=Rue des Canadiens Strépy-Bracquegnies Hainaut 7110 Belgium;X-APPLE-RADIUS=500;X-TITLE=Rue des Canadiens:geo:4.1154038,50.4649593
END:VEVENT
BEGIN:VEVENT
DTSTART;TZID=Europe/Brussels:20210822T160000
DTEND;TZID=Europe/Brussels:20210822T160000
DTSTAMP:20260421T120647
CREATED:20210821T155512Z
LAST-MODIFIED:20210823T071753Z
UID:10000240-1629648000-1629648000@www.raal.be
SUMMARY:Croky Cup : Rebecq (D2) - RAAL
DESCRIPTION:
URL:https://www.raal.be/event/croky-cup-rebecq-d2-raal/
LOCATION:Rue des Canadiens\, Strépy-Bracquegnies\, Hainaut\, 7110\, Belgium
CATEGORIES:Match Hommes
GEO:50.4649593;4.1154038
X-APPLE-STRUCTURED-LOCATION;VALUE=URI;X-ADDRESS=Rue des Canadiens Strépy-Bracquegnies Hainaut 7110 Belgium;X-APPLE-RADIUS=500;X-TITLE=Rue des Canadiens:geo:4.1154038,50.4649593
END:VEVENT
BEGIN:VEVENT
DTSTART;TZID=Europe/Brussels:20210815T160000
DTEND;TZID=Europe/Brussels:20210815T160000
DTSTAMP:20260421T120647
CREATED:20210809T093115Z
LAST-MODIFIED:20210821T155608Z
UID:10000239-1629043200-1629043200@www.raal.be
SUMMARY:Croky Cup : Sint-Lenaarts (D3) - RAAL
DESCRIPTION:
URL:https://www.raal.be/event/croky-cup-sint-lenaarts-d3-raal/
LOCATION:Rue des Canadiens\, Strépy-Bracquegnies\, Hainaut\, 7110\, Belgium
CATEGORIES:Match Hommes
GEO:50.4649593;4.1154038
X-APPLE-STRUCTURED-LOCATION;VALUE=URI;X-ADDRESS=Rue des Canadiens Strépy-Bracquegnies Hainaut 7110 Belgium;X-APPLE-RADIUS=500;X-TITLE=Rue des Canadiens:geo:4.1154038,50.4649593
END:VEVENT
BEGIN:VEVENT
DTSTART;TZID=Europe/Brussels:20210807T203000
DTEND;TZID=Europe/Brussels:20210807T203000
DTSTAMP:20260421T120647
CREATED:20210802T090442Z
LAST-MODIFIED:20210809T094502Z
UID:10000238-1628368200-1628368200@www.raal.be
SUMMARY:Croky Cup : RAAL - Morlanwelz (P1)
DESCRIPTION:
URL:https://www.raal.be/event/coupe-de-belgique-t2-morlanwelz-raal/
LOCATION:Rue des Canadiens\, Strépy-Bracquegnies\, Hainaut\, 7110\, Belgium
CATEGORIES:Match Hommes
GEO:50.4649593;4.1154038
X-APPLE-STRUCTURED-LOCATION;VALUE=URI;X-ADDRESS=Rue des Canadiens Strépy-Bracquegnies Hainaut 7110 Belgium;X-APPLE-RADIUS=500;X-TITLE=Rue des Canadiens:geo:4.1154038,50.4649593
END:VEVENT
BEGIN:VEVENT
DTSTART;TZID=Europe/Brussels:20210720T203000
DTEND;TZID=Europe/Brussels:20210720T203000
DTSTAMP:20260421T120647
CREATED:20210706T093649Z
LAST-MODIFIED:20210722T083237Z
UID:10000231-1626813000-1626813000@www.raal.be
SUMMARY:Amical : RAAL - Jodoigne (D3)
DESCRIPTION:
URL:https://www.raal.be/event/amical-raal-jodoigne-d3/
LOCATION:Rue des Canadiens\, Strépy-Bracquegnies\, Hainaut\, 7110\, Belgium
CATEGORIES:Match Hommes
GEO:50.4649593;4.1154038
X-APPLE-STRUCTURED-LOCATION;VALUE=URI;X-ADDRESS=Rue des Canadiens Strépy-Bracquegnies Hainaut 7110 Belgium;X-APPLE-RADIUS=500;X-TITLE=Rue des Canadiens:geo:4.1154038,50.4649593
END:VEVENT
BEGIN:VEVENT
DTSTART;TZID=Europe/Brussels:20210717T160000
DTEND;TZID=Europe/Brussels:20210717T160000
DTSTAMP:20260421T120647
CREATED:20210706T093502Z
LAST-MODIFIED:20210719T132652Z
UID:10000230-1626537600-1626537600@www.raal.be
SUMMARY:Amical : RAAL - Onhaye (D3)
DESCRIPTION:
URL:https://www.raal.be/event/amical-raal-onhaye-d3/
LOCATION:Rue des Canadiens\, Strépy-Bracquegnies\, Hainaut\, 7110\, Belgium
CATEGORIES:Match Hommes
GEO:50.4649593;4.1154038
X-APPLE-STRUCTURED-LOCATION;VALUE=URI;X-ADDRESS=Rue des Canadiens Strépy-Bracquegnies Hainaut 7110 Belgium;X-APPLE-RADIUS=500;X-TITLE=Rue des Canadiens:geo:4.1154038,50.4649593
END:VEVENT
END:VCALENDAR