BEGIN:VCALENDAR
VERSION:2.0
PRODID:-//RAAL La Louvi&egrave;re - ECPv6.15.17.1//NONSGML v1.0//EN
CALSCALE:GREGORIAN
METHOD:PUBLISH
X-WR-CALNAME:RAAL La Louvi&egrave;re
X-ORIGINAL-URL:https://www.raal.be
X-WR-CALDESC:Évènements pour RAAL La Louvi&egrave;re
REFRESH-INTERVAL;VALUE=DURATION:PT1H
X-Robots-Tag:noindex
X-PUBLISHED-TTL:PT1H
BEGIN:VTIMEZONE
TZID:Europe/Brussels
BEGIN:DAYLIGHT
TZOFFSETFROM:+0100
TZOFFSETTO:+0200
TZNAME:CEST
DTSTART:20240331T010000
END:DAYLIGHT
BEGIN:STANDARD
TZOFFSETFROM:+0200
TZOFFSETTO:+0100
TZNAME:CET
DTSTART:20241027T010000
END:STANDARD
BEGIN:DAYLIGHT
TZOFFSETFROM:+0100
TZOFFSETTO:+0200
TZNAME:CEST
DTSTART:20250330T010000
END:DAYLIGHT
BEGIN:STANDARD
TZOFFSETFROM:+0200
TZOFFSETTO:+0100
TZNAME:CET
DTSTART:20251026T010000
END:STANDARD
BEGIN:DAYLIGHT
TZOFFSETFROM:+0100
TZOFFSETTO:+0200
TZNAME:CEST
DTSTART:20260329T010000
END:DAYLIGHT
BEGIN:STANDARD
TZOFFSETFROM:+0200
TZOFFSETTO:+0100
TZNAME:CET
DTSTART:20261025T010000
END:STANDARD
BEGIN:DAYLIGHT
TZOFFSETFROM:+0100
TZOFFSETTO:+0200
TZNAME:CEST
DTSTART:20270328T010000
END:DAYLIGHT
BEGIN:STANDARD
TZOFFSETFROM:+0200
TZOFFSETTO:+0100
TZNAME:CET
DTSTART:20271031T010000
END:STANDARD
END:VTIMEZONE
BEGIN:VEVENT
DTSTART;TZID=Europe/Brussels:20260113T203000
DTEND;TZID=Europe/Brussels:20260113T203000
DTSTAMP:20260420T160357
CREATED:20251204T225641Z
LAST-MODIFIED:20260113T231600Z
UID:10000434-1768336200-1768336200@www.raal.be
SUMMARY:Croky Cup | Antwerp - RAAL
DESCRIPTION:
URL:https://www.raal.be/event/croky-cup-antwerp-raal/
LOCATION:Bosuilstadion
CATEGORIES:Match Hommes
END:VEVENT
BEGIN:VEVENT
DTSTART;TZID=Europe/Brussels:20251108T204500
DTEND;TZID=Europe/Brussels:20251108T204500
DTSTAMP:20260420T160357
CREATED:20250622T102849Z
LAST-MODIFIED:20251109T103802Z
UID:10000395-1762634700-1762634700@www.raal.be
SUMMARY:MD14 | Royal Antwerp - RAAL
DESCRIPTION:
URL:https://www.raal.be/event/md14-royal-antwerp-raal/
LOCATION:Bosuilstadion
CATEGORIES:Match Hommes
ORGANIZER;CN="RAAL La Louvi%C3%A8re":MAILTO:info@raal.be
END:VEVENT
END:VCALENDAR