BEGIN:VCALENDAR
VERSION:2.0
PRODID:-//RAAL La Louvi&egrave;re - ECPv6.15.17.1//NONSGML v1.0//EN
CALSCALE:GREGORIAN
METHOD:PUBLISH
X-WR-CALNAME:RAAL La Louvi&egrave;re
X-ORIGINAL-URL:https://www.raal.be
X-WR-CALDESC:Évènements pour RAAL La Louvi&egrave;re
REFRESH-INTERVAL;VALUE=DURATION:PT1H
X-Robots-Tag:noindex
X-PUBLISHED-TTL:PT1H
BEGIN:VTIMEZONE
TZID:Europe/Brussels
BEGIN:DAYLIGHT
TZOFFSETFROM:+0100
TZOFFSETTO:+0200
TZNAME:CEST
DTSTART:20220327T010000
END:DAYLIGHT
BEGIN:STANDARD
TZOFFSETFROM:+0200
TZOFFSETTO:+0100
TZNAME:CET
DTSTART:20221030T010000
END:STANDARD
BEGIN:DAYLIGHT
TZOFFSETFROM:+0100
TZOFFSETTO:+0200
TZNAME:CEST
DTSTART:20230326T010000
END:DAYLIGHT
BEGIN:STANDARD
TZOFFSETFROM:+0200
TZOFFSETTO:+0100
TZNAME:CET
DTSTART:20231029T010000
END:STANDARD
BEGIN:DAYLIGHT
TZOFFSETFROM:+0100
TZOFFSETTO:+0200
TZNAME:CEST
DTSTART:20240331T010000
END:DAYLIGHT
BEGIN:STANDARD
TZOFFSETFROM:+0200
TZOFFSETTO:+0100
TZNAME:CET
DTSTART:20241027T010000
END:STANDARD
END:VTIMEZONE
BEGIN:VEVENT
DTSTART;TZID=Europe/Brussels:20230401T193000
DTEND;TZID=Europe/Brussels:20230401T193000
DTSTAMP:20260421T080520
CREATED:20220623T110850Z
LAST-MODIFIED:20230424T120647Z
UID:10000288-1680377400-1680377400@www.raal.be
SUMMARY:Journée 31 : Ninove - RAAL
DESCRIPTION:
URL:https://www.raal.be/event/journee-31-ninove-raal/
LOCATION:De Kloppers\, Denderstraat\, 32\, Ninove\, Belgium
CATEGORIES:Match Hommes
ORGANIZER;CN="RAAL La Louvi%C3%A8re":MAILTO:info@raal.be
GEO:50.8305254;4.0337848
X-APPLE-STRUCTURED-LOCATION;VALUE=URI;X-ADDRESS=De Kloppers Denderstraat 32 Ninove Belgium;X-APPLE-RADIUS=500;X-TITLE=Denderstraat\, 32:geo:4.0337848,50.8305254
END:VEVENT
END:VCALENDAR