BEGIN:VCALENDAR
VERSION:2.0
PRODID:-//RAAL La Louvi&egrave;re - ECPv6.15.17.1//NONSGML v1.0//EN
CALSCALE:GREGORIAN
METHOD:PUBLISH
X-WR-CALNAME:RAAL La Louvi&egrave;re
X-ORIGINAL-URL:https://www.raal.be
X-WR-CALDESC:Évènements pour RAAL La Louvi&egrave;re
REFRESH-INTERVAL;VALUE=DURATION:PT1H
X-Robots-Tag:noindex
X-PUBLISHED-TTL:PT1H
BEGIN:VTIMEZONE
TZID:Europe/Brussels
BEGIN:DAYLIGHT
TZOFFSETFROM:+0100
TZOFFSETTO:+0200
TZNAME:CEST
DTSTART:20240331T010000
END:DAYLIGHT
BEGIN:STANDARD
TZOFFSETFROM:+0200
TZOFFSETTO:+0100
TZNAME:CET
DTSTART:20241027T010000
END:STANDARD
BEGIN:DAYLIGHT
TZOFFSETFROM:+0100
TZOFFSETTO:+0200
TZNAME:CEST
DTSTART:20250330T010000
END:DAYLIGHT
BEGIN:STANDARD
TZOFFSETFROM:+0200
TZOFFSETTO:+0100
TZNAME:CET
DTSTART:20251026T010000
END:STANDARD
BEGIN:DAYLIGHT
TZOFFSETFROM:+0100
TZOFFSETTO:+0200
TZNAME:CEST
DTSTART:20260329T010000
END:DAYLIGHT
BEGIN:STANDARD
TZOFFSETFROM:+0200
TZOFFSETTO:+0100
TZNAME:CET
DTSTART:20261025T010000
END:STANDARD
END:VTIMEZONE
BEGIN:VEVENT
DTSTART;TZID=Europe/Brussels:20250927T170000
DTEND;TZID=Europe/Brussels:20250927T170000
DTSTAMP:20260420T192038
CREATED:20250910T123738Z
LAST-MODIFIED:20250928T094006Z
UID:10000414-1758992400-1758992400@www.raal.be
SUMMARY:Coupe de Belgique F | KVE Drongen - RAAL Women
DESCRIPTION:
URL:https://www.raal.be/event/coupe-de-belgique-f-kve-drongen-raal-women/
LOCATION:Drongen
CATEGORIES:Match Dames
ORGANIZER;CN="RAAL La Louvi%C3%A8re":MAILTO:info@raal.be
END:VEVENT
END:VCALENDAR