BEGIN:VCALENDAR
VERSION:2.0
PRODID:-//RAAL La Louvi&egrave;re - ECPv6.15.17.1//NONSGML v1.0//EN
CALSCALE:GREGORIAN
METHOD:PUBLISH
X-WR-CALNAME:RAAL La Louvi&egrave;re
X-ORIGINAL-URL:https://www.raal.be
X-WR-CALDESC:Évènements pour RAAL La Louvi&egrave;re
REFRESH-INTERVAL;VALUE=DURATION:PT1H
X-Robots-Tag:noindex
X-PUBLISHED-TTL:PT1H
BEGIN:VTIMEZONE
TZID:Europe/Brussels
BEGIN:DAYLIGHT
TZOFFSETFROM:+0100
TZOFFSETTO:+0200
TZNAME:CEST
DTSTART:20230326T010000
END:DAYLIGHT
BEGIN:STANDARD
TZOFFSETFROM:+0200
TZOFFSETTO:+0100
TZNAME:CET
DTSTART:20231029T010000
END:STANDARD
BEGIN:DAYLIGHT
TZOFFSETFROM:+0100
TZOFFSETTO:+0200
TZNAME:CEST
DTSTART:20240331T010000
END:DAYLIGHT
BEGIN:STANDARD
TZOFFSETFROM:+0200
TZOFFSETTO:+0100
TZNAME:CET
DTSTART:20241027T010000
END:STANDARD
BEGIN:DAYLIGHT
TZOFFSETFROM:+0100
TZOFFSETTO:+0200
TZNAME:CEST
DTSTART:20250330T010000
END:DAYLIGHT
BEGIN:STANDARD
TZOFFSETFROM:+0200
TZOFFSETTO:+0100
TZNAME:CET
DTSTART:20251026T010000
END:STANDARD
END:VTIMEZONE
BEGIN:VEVENT
DTSTART;TZID=Europe/Brussels:20240217T193000
DTEND;TZID=Europe/Brussels:20240217T193000
DTSTAMP:20260421T031907
CREATED:20230620T150543Z
LAST-MODIFIED:20240219T092616Z
UID:10000269-1708198200-1708198200@www.raal.be
SUMMARY:Journée 23 : Dessel - RAAL
DESCRIPTION:
URL:https://www.raal.be/event/journee-23-dessel-raal/
LOCATION:Stade Armand Melis
CATEGORIES:Match Hommes
END:VEVENT
END:VCALENDAR