BEGIN:VCALENDAR
VERSION:2.0
PRODID:-//RAAL La Louvi&egrave;re - ECPv6.15.17.1//NONSGML v1.0//EN
CALSCALE:GREGORIAN
METHOD:PUBLISH
X-ORIGINAL-URL:https://www.raal.be
X-WR-CALDESC:Évènements pour RAAL La Louvi&egrave;re
REFRESH-INTERVAL;VALUE=DURATION:PT1H
X-Robots-Tag:noindex
X-PUBLISHED-TTL:PT1H
BEGIN:VTIMEZONE
TZID:Europe/Brussels
BEGIN:DAYLIGHT
TZOFFSETFROM:+0100
TZOFFSETTO:+0200
TZNAME:CEST
DTSTART:20220327T010000
END:DAYLIGHT
BEGIN:STANDARD
TZOFFSETFROM:+0200
TZOFFSETTO:+0100
TZNAME:CET
DTSTART:20221030T010000
END:STANDARD
BEGIN:DAYLIGHT
TZOFFSETFROM:+0100
TZOFFSETTO:+0200
TZNAME:CEST
DTSTART:20230326T010000
END:DAYLIGHT
BEGIN:STANDARD
TZOFFSETFROM:+0200
TZOFFSETTO:+0100
TZNAME:CET
DTSTART:20231029T010000
END:STANDARD
BEGIN:DAYLIGHT
TZOFFSETFROM:+0100
TZOFFSETTO:+0200
TZNAME:CEST
DTSTART:20240331T010000
END:DAYLIGHT
BEGIN:STANDARD
TZOFFSETFROM:+0200
TZOFFSETTO:+0100
TZNAME:CET
DTSTART:20241027T010000
END:STANDARD
END:VTIMEZONE
BEGIN:VEVENT
DTSTART;TZID=Europe/Brussels:20230726T190000
DTEND;TZID=Europe/Brussels:20230726T190000
DTSTAMP:20260421T080201
CREATED:20230710T095554Z
LAST-MODIFIED:20230728T150018Z
UID:10000326-1690398000-1690398000@www.raal.be
SUMMARY:Amical : Manage - RAAL
DESCRIPTION:
URL:https://www.raal.be/event/amical-manage-raal/
LOCATION:Stade du Scailmont\, Avenue du Scailmont\, Manage\, Hainaut\, 7170\, Belgique
CATEGORIES:Match Hommes
GEO:50.5001392;4.2404599
X-APPLE-STRUCTURED-LOCATION;VALUE=URI;X-ADDRESS=Stade du Scailmont Avenue du Scailmont Manage Hainaut 7170 Belgique;X-APPLE-RADIUS=500;X-TITLE=Avenue du Scailmont:geo:4.2404599,50.5001392
END:VEVENT
END:VCALENDAR