BEGIN:VCALENDAR
VERSION:2.0
PRODID:-//RAAL La Louvi&egrave;re - ECPv6.15.17.1//NONSGML v1.0//EN
CALSCALE:GREGORIAN
METHOD:PUBLISH
X-ORIGINAL-URL:https://www.raal.be
X-WR-CALDESC:Évènements pour RAAL La Louvi&egrave;re
REFRESH-INTERVAL;VALUE=DURATION:PT1H
X-Robots-Tag:noindex
X-PUBLISHED-TTL:PT1H
BEGIN:VTIMEZONE
TZID:Europe/Brussels
BEGIN:DAYLIGHT
TZOFFSETFROM:+0100
TZOFFSETTO:+0200
TZNAME:CEST
DTSTART:20240331T010000
END:DAYLIGHT
BEGIN:STANDARD
TZOFFSETFROM:+0200
TZOFFSETTO:+0100
TZNAME:CET
DTSTART:20241027T010000
END:STANDARD
BEGIN:DAYLIGHT
TZOFFSETFROM:+0100
TZOFFSETTO:+0200
TZNAME:CEST
DTSTART:20250330T010000
END:DAYLIGHT
BEGIN:STANDARD
TZOFFSETFROM:+0200
TZOFFSETTO:+0100
TZNAME:CET
DTSTART:20251026T010000
END:STANDARD
BEGIN:DAYLIGHT
TZOFFSETFROM:+0100
TZOFFSETTO:+0200
TZNAME:CEST
DTSTART:20260329T010000
END:DAYLIGHT
BEGIN:STANDARD
TZOFFSETFROM:+0200
TZOFFSETTO:+0100
TZNAME:CET
DTSTART:20261025T010000
END:STANDARD
END:VTIMEZONE
BEGIN:VEVENT
DTSTART;TZID=Europe/Brussels:20250412T200000
DTEND;TZID=Europe/Brussels:20250412T200000
DTSTAMP:20260420T220756
CREATED:20241210T130638Z
LAST-MODIFIED:20250903T090333Z
UID:10000373-1744488000-1744488000@www.raal.be
SUMMARY:MD29 : RAAL - KMSK Deinze (ANNULÉ)
DESCRIPTION:
URL:https://www.raal.be/event/md29-raal-kmsk-deinze/
LOCATION:Stade du Tivoli\, La Louvière\, Boulevard du Tivoli\, 80\, La Louvière\, Hainaut\, 7100\, Belgique
CATEGORIES:Match Hommes
ORGANIZER;CN="RAAL La Louvi%C3%A8re":MAILTO:info@raal.be
GEO:50.4799685;4.20108
X-APPLE-STRUCTURED-LOCATION;VALUE=URI;X-ADDRESS=Stade du Tivoli La Louvière Boulevard du Tivoli 80 La Louvière Hainaut 7100 Belgique;X-APPLE-RADIUS=500;X-TITLE=Boulevard du Tivoli\, 80:geo:4.20108,50.4799685
END:VEVENT
BEGIN:VEVENT
DTSTART;TZID=Europe/Brussels:20250406T160000
DTEND;TZID=Europe/Brussels:20250406T160000
DTSTAMP:20260420T220756
CREATED:20241210T130634Z
LAST-MODIFIED:20250903T090334Z
UID:10000372-1743955200-1743955200@www.raal.be
SUMMARY:MD28 : RAAL - Francs Borains
DESCRIPTION:
URL:https://www.raal.be/event/md28-raal-francs-borains/
LOCATION:Stade du Tivoli\, La Louvière\, Boulevard du Tivoli\, 80\, La Louvière\, Hainaut\, 7100\, Belgique
CATEGORIES:Match Hommes
ORGANIZER;CN="RAAL La Louvi%C3%A8re":MAILTO:info@raal.be
GEO:50.4799685;4.20108
X-APPLE-STRUCTURED-LOCATION;VALUE=URI;X-ADDRESS=Stade du Tivoli La Louvière Boulevard du Tivoli 80 La Louvière Hainaut 7100 Belgique;X-APPLE-RADIUS=500;X-TITLE=Boulevard du Tivoli\, 80:geo:4.20108,50.4799685
END:VEVENT
BEGIN:VEVENT
DTSTART;TZID=Europe/Brussels:20250314T200000
DTEND;TZID=Europe/Brussels:20250314T200000
DTSTAMP:20260420T220756
CREATED:20241210T130542Z
LAST-MODIFIED:20250903T090334Z
UID:10000370-1741982400-1741982400@www.raal.be
SUMMARY:MD26 : RAAL - Lierse
DESCRIPTION:
URL:https://www.raal.be/event/md26-raal-lierse/
LOCATION:Stade du Tivoli\, La Louvière\, Boulevard du Tivoli\, 80\, La Louvière\, Hainaut\, 7100\, Belgique
CATEGORIES:Match Hommes
ORGANIZER;CN="RAAL La Louvi%C3%A8re":MAILTO:info@raal.be
GEO:50.4799685;4.20108
X-APPLE-STRUCTURED-LOCATION;VALUE=URI;X-ADDRESS=Stade du Tivoli La Louvière Boulevard du Tivoli 80 La Louvière Hainaut 7100 Belgique;X-APPLE-RADIUS=500;X-TITLE=Boulevard du Tivoli\, 80:geo:4.20108,50.4799685
END:VEVENT
BEGIN:VEVENT
DTSTART;TZID=Europe/Brussels:20250228T200000
DTEND;TZID=Europe/Brussels:20250228T200000
DTSTAMP:20260420T220756
CREATED:20241210T130403Z
LAST-MODIFIED:20250903T090334Z
UID:10000368-1740772800-1740772800@www.raal.be
SUMMARY:MD24 : RAAL - KAS Eupen
DESCRIPTION:
URL:https://www.raal.be/event/md24-raal-kas-eupen/
LOCATION:Stade du Tivoli\, La Louvière\, Boulevard du Tivoli\, 80\, La Louvière\, Hainaut\, 7100\, Belgique
CATEGORIES:Match Hommes
ORGANIZER;CN="RAAL La Louvi%C3%A8re":MAILTO:info@raal.be
GEO:50.4799685;4.20108
X-APPLE-STRUCTURED-LOCATION;VALUE=URI;X-ADDRESS=Stade du Tivoli La Louvière Boulevard du Tivoli 80 La Louvière Hainaut 7100 Belgique;X-APPLE-RADIUS=500;X-TITLE=Boulevard du Tivoli\, 80:geo:4.20108,50.4799685
END:VEVENT
BEGIN:VEVENT
DTSTART;TZID=Europe/Brussels:20250215T160000
DTEND;TZID=Europe/Brussels:20250215T160000
DTSTAMP:20260420T220756
CREATED:20241210T130300Z
LAST-MODIFIED:20250903T090359Z
UID:10000366-1739635200-1739635200@www.raal.be
SUMMARY:MD22 : RAAL - RFC Seraing
DESCRIPTION:
URL:https://www.raal.be/event/md22-raal-rfc-seraing/
LOCATION:Stade du Tivoli\, La Louvière\, Boulevard du Tivoli\, 80\, La Louvière\, Hainaut\, 7100\, Belgique
CATEGORIES:Match Hommes
ORGANIZER;CN="RAAL La Louvi%C3%A8re":MAILTO:info@raal.be
GEO:50.4799685;4.20108
X-APPLE-STRUCTURED-LOCATION;VALUE=URI;X-ADDRESS=Stade du Tivoli La Louvière Boulevard du Tivoli 80 La Louvière Hainaut 7100 Belgique;X-APPLE-RADIUS=500;X-TITLE=Boulevard du Tivoli\, 80:geo:4.20108,50.4799685
END:VEVENT
BEGIN:VEVENT
DTSTART;TZID=Europe/Brussels:20250202T160000
DTEND;TZID=Europe/Brussels:20250202T160000
DTSTAMP:20260420T220756
CREATED:20241210T130234Z
LAST-MODIFIED:20250903T090359Z
UID:10000364-1738512000-1738512000@www.raal.be
SUMMARY:MD20 : RAAL - Zulte-Waregem
DESCRIPTION:
URL:https://www.raal.be/event/md20-raal-zulte-waregem/
LOCATION:Stade du Tivoli\, La Louvière\, Boulevard du Tivoli\, 80\, La Louvière\, Hainaut\, 7100\, Belgique
CATEGORIES:Match Hommes
ORGANIZER;CN="RAAL La Louvi%C3%A8re":MAILTO:info@raal.be
GEO:50.4799685;4.20108
X-APPLE-STRUCTURED-LOCATION;VALUE=URI;X-ADDRESS=Stade du Tivoli La Louvière Boulevard du Tivoli 80 La Louvière Hainaut 7100 Belgique;X-APPLE-RADIUS=500;X-TITLE=Boulevard du Tivoli\, 80:geo:4.20108,50.4799685
END:VEVENT
BEGIN:VEVENT
DTSTART;TZID=Europe/Brussels:20250118T200000
DTEND;TZID=Europe/Brussels:20250118T200000
DTSTAMP:20260420T220756
CREATED:20241210T130228Z
LAST-MODIFIED:20250903T090359Z
UID:10000362-1737230400-1737230400@www.raal.be
SUMMARY:MD18 : RAAL - RSCA Futures
DESCRIPTION:
URL:https://www.raal.be/event/md18-raal-rsca-futures/
LOCATION:Stade du Tivoli\, La Louvière\, Boulevard du Tivoli\, 80\, La Louvière\, Hainaut\, 7100\, Belgique
CATEGORIES:Match Hommes
ORGANIZER;CN="RAAL La Louvi%C3%A8re":MAILTO:info@raal.be
GEO:50.4799685;4.20108
X-APPLE-STRUCTURED-LOCATION;VALUE=URI;X-ADDRESS=Stade du Tivoli La Louvière Boulevard du Tivoli 80 La Louvière Hainaut 7100 Belgique;X-APPLE-RADIUS=500;X-TITLE=Boulevard du Tivoli\, 80:geo:4.20108,50.4799685
END:VEVENT
END:VCALENDAR