BEGIN:VCALENDAR
VERSION:2.0
PRODID:-//RAAL La Louvi&egrave;re - ECPv6.15.17.1//NONSGML v1.0//EN
CALSCALE:GREGORIAN
METHOD:PUBLISH
X-ORIGINAL-URL:https://www.raal.be
X-WR-CALDESC:Évènements pour RAAL La Louvi&egrave;re
REFRESH-INTERVAL;VALUE=DURATION:PT1H
X-Robots-Tag:noindex
X-PUBLISHED-TTL:PT1H
BEGIN:VTIMEZONE
TZID:Europe/Brussels
BEGIN:DAYLIGHT
TZOFFSETFROM:+0100
TZOFFSETTO:+0200
TZNAME:CEST
DTSTART:20200329T010000
END:DAYLIGHT
BEGIN:STANDARD
TZOFFSETFROM:+0200
TZOFFSETTO:+0100
TZNAME:CET
DTSTART:20201025T010000
END:STANDARD
BEGIN:DAYLIGHT
TZOFFSETFROM:+0100
TZOFFSETTO:+0200
TZNAME:CEST
DTSTART:20210328T010000
END:DAYLIGHT
BEGIN:STANDARD
TZOFFSETFROM:+0200
TZOFFSETTO:+0100
TZNAME:CET
DTSTART:20211031T010000
END:STANDARD
BEGIN:DAYLIGHT
TZOFFSETFROM:+0100
TZOFFSETTO:+0200
TZNAME:CEST
DTSTART:20220327T010000
END:DAYLIGHT
BEGIN:STANDARD
TZOFFSETFROM:+0200
TZOFFSETTO:+0100
TZNAME:CET
DTSTART:20221030T010000
END:STANDARD
BEGIN:DAYLIGHT
TZOFFSETFROM:+0100
TZOFFSETTO:+0200
TZNAME:CEST
DTSTART:20230326T010000
END:DAYLIGHT
BEGIN:STANDARD
TZOFFSETFROM:+0200
TZOFFSETTO:+0100
TZNAME:CET
DTSTART:20231029T010000
END:STANDARD
BEGIN:DAYLIGHT
TZOFFSETFROM:+0100
TZOFFSETTO:+0200
TZNAME:CEST
DTSTART:20240331T010000
END:DAYLIGHT
BEGIN:STANDARD
TZOFFSETFROM:+0200
TZOFFSETTO:+0100
TZNAME:CET
DTSTART:20241027T010000
END:STANDARD
END:VTIMEZONE
BEGIN:VEVENT
DTSTART;TZID=Europe/Brussels:20230310T203000
DTEND;TZID=Europe/Brussels:20230310T203000
DTSTAMP:20260421T035901
CREATED:20220623T110054Z
LAST-MODIFIED:20230313T084834Z
UID:10000285-1678480200-1678480200@www.raal.be
SUMMARY:Journée 28 : RAAL - Francs Borains
DESCRIPTION:
URL:https://www.raal.be/event/journee-28-raal-francs-borains/
LOCATION:Stade du Tivoli\, Boulevard du Tivoli\, La Louvière\, Hainaut\, 7100\, Belgium
CATEGORIES:Match Hommes
GEO:50.4783523;4.200953
X-APPLE-STRUCTURED-LOCATION;VALUE=URI;X-ADDRESS=Stade du Tivoli Boulevard du Tivoli La Louvière Hainaut 7100 Belgium;X-APPLE-RADIUS=500;X-TITLE=Boulevard du Tivoli:geo:4.200953,50.4783523
END:VEVENT
BEGIN:VEVENT
DTSTART;TZID=Europe/Brussels:20230226T143000
DTEND;TZID=Europe/Brussels:20230226T143000
DTSTAMP:20260421T035901
CREATED:20220623T105435Z
LAST-MODIFIED:20230227T104839Z
UID:10000283-1677421800-1677421800@www.raal.be
SUMMARY:Journée 26 : RAAL - Sint-Eloois-Winkel
DESCRIPTION:
URL:https://www.raal.be/event/journee-26-raal-sint-eloois-winkel/
LOCATION:Stade du Tivoli\, Boulevard du Tivoli\, La Louvière\, Hainaut\, 7100\, Belgium
CATEGORIES:Match Hommes
GEO:50.4783523;4.200953
X-APPLE-STRUCTURED-LOCATION;VALUE=URI;X-ADDRESS=Stade du Tivoli Boulevard du Tivoli La Louvière Hainaut 7100 Belgium;X-APPLE-RADIUS=500;X-TITLE=Boulevard du Tivoli:geo:4.200953,50.4783523
END:VEVENT
BEGIN:VEVENT
DTSTART;TZID=Europe/Brussels:20230212T143000
DTEND;TZID=Europe/Brussels:20230212T143000
DTSTAMP:20260421T035901
CREATED:20220623T104925Z
LAST-MODIFIED:20230213T101011Z
UID:10000281-1676212200-1676212200@www.raal.be
SUMMARY:Journée 24 : RAAL - La Gantoise U23
DESCRIPTION:
URL:https://www.raal.be/event/journee-24-raal-la-gantoise-u23/
LOCATION:Stade du Tivoli\, Boulevard du Tivoli\, La Louvière\, Hainaut\, 7100\, Belgium
CATEGORIES:Match Hommes
GEO:50.4783523;4.200953
X-APPLE-STRUCTURED-LOCATION;VALUE=URI;X-ADDRESS=Stade du Tivoli Boulevard du Tivoli La Louvière Hainaut 7100 Belgium;X-APPLE-RADIUS=500;X-TITLE=Boulevard du Tivoli:geo:4.200953,50.4783523
END:VEVENT
BEGIN:VEVENT
DTSTART;TZID=Europe/Brussels:20230128T200000
DTEND;TZID=Europe/Brussels:20230128T200000
DTSTAMP:20260421T035901
CREATED:20220623T104524Z
LAST-MODIFIED:20230130T092111Z
UID:10000279-1674936000-1674936000@www.raal.be
SUMMARY:Journée 22 : RAAL - Tessenderlo
DESCRIPTION:
URL:https://www.raal.be/event/journee-22-raal-tessenderlo/
LOCATION:Stade du Tivoli\, Boulevard du Tivoli\, La Louvière\, Hainaut\, 7100\, Belgium
CATEGORIES:Match Hommes
GEO:50.4783523;4.200953
X-APPLE-STRUCTURED-LOCATION;VALUE=URI;X-ADDRESS=Stade du Tivoli Boulevard du Tivoli La Louvière Hainaut 7100 Belgium;X-APPLE-RADIUS=500;X-TITLE=Boulevard du Tivoli:geo:4.200953,50.4783523
END:VEVENT
BEGIN:VEVENT
DTSTART;TZID=Europe/Brussels:20230107T200000
DTEND;TZID=Europe/Brussels:20230107T200000
DTSTAMP:20260421T035901
CREATED:20220623T103707Z
LAST-MODIFIED:20230109T091012Z
UID:10000275-1673121600-1673121600@www.raal.be
SUMMARY:Journée 19 : RAAL - Boom
DESCRIPTION:
URL:https://www.raal.be/event/journee-19-raal-boom/
LOCATION:Stade du Tivoli\, Boulevard du Tivoli\, La Louvière\, Hainaut\, 7100\, Belgium
CATEGORIES:Match Hommes
GEO:50.4783523;4.200953
X-APPLE-STRUCTURED-LOCATION;VALUE=URI;X-ADDRESS=Stade du Tivoli Boulevard du Tivoli La Louvière Hainaut 7100 Belgium;X-APPLE-RADIUS=500;X-TITLE=Boulevard du Tivoli:geo:4.200953,50.4783523
END:VEVENT
BEGIN:VEVENT
DTSTART;TZID=Europe/Brussels:20221210T200000
DTEND;TZID=Europe/Brussels:20221210T200000
DTSTAMP:20260421T035901
CREATED:20220623T103057Z
LAST-MODIFIED:20221213T165156Z
UID:10000271-1670702400-1670702400@www.raal.be
SUMMARY:Journée 17 : RAAL - Dessel
DESCRIPTION:
URL:https://www.raal.be/event/journee-17-raal-dessel/
LOCATION:Stade du Tivoli\, Boulevard du Tivoli\, La Louvière\, Hainaut\, 7100\, Belgium
CATEGORIES:Match Hommes
GEO:50.4783523;4.200953
X-APPLE-STRUCTURED-LOCATION;VALUE=URI;X-ADDRESS=Stade du Tivoli Boulevard du Tivoli La Louvière Hainaut 7100 Belgium;X-APPLE-RADIUS=500;X-TITLE=Boulevard du Tivoli:geo:4.200953,50.4783523
END:VEVENT
BEGIN:VEVENT
DTSTART;TZID=Europe/Brussels:20221203T200000
DTEND;TZID=Europe/Brussels:20221203T200000
DTSTAMP:20260421T035901
CREATED:20220623T102929Z
LAST-MODIFIED:20221205T165527Z
UID:10000268-1670097600-1670097600@www.raal.be
SUMMARY:Journée 16 : RAAL - Visé
DESCRIPTION:
URL:https://www.raal.be/event/journee-16-raal-vise/
LOCATION:Stade du Tivoli\, Boulevard du Tivoli\, La Louvière\, Hainaut\, 7100\, Belgium
CATEGORIES:Match Hommes
GEO:50.4783523;4.200953
X-APPLE-STRUCTURED-LOCATION;VALUE=URI;X-ADDRESS=Stade du Tivoli Boulevard du Tivoli La Louvière Hainaut 7100 Belgium;X-APPLE-RADIUS=500;X-TITLE=Boulevard du Tivoli:geo:4.200953,50.4783523
END:VEVENT
BEGIN:VEVENT
DTSTART;TZID=Europe/Brussels:20221119T200000
DTEND;TZID=Europe/Brussels:20221119T200000
DTSTAMP:20260421T035901
CREATED:20220623T102254Z
LAST-MODIFIED:20221129T135906Z
UID:10000264-1668888000-1668888000@www.raal.be
SUMMARY:Journée 14 : RAAL - Louvain U23
DESCRIPTION:
URL:https://www.raal.be/event/journee-14-raal-louvain-u23/
LOCATION:Stade du Tivoli\, Boulevard du Tivoli\, La Louvière\, Hainaut\, 7100\, Belgium
CATEGORIES:Match Hommes
GEO:50.4783523;4.200953
X-APPLE-STRUCTURED-LOCATION;VALUE=URI;X-ADDRESS=Stade du Tivoli Boulevard du Tivoli La Louvière Hainaut 7100 Belgium;X-APPLE-RADIUS=500;X-TITLE=Boulevard du Tivoli:geo:4.200953,50.4783523
END:VEVENT
BEGIN:VEVENT
DTSTART;TZID=Europe/Brussels:20221029T200000
DTEND;TZID=Europe/Brussels:20221029T200000
DTSTAMP:20260421T035901
CREATED:20220623T101503Z
LAST-MODIFIED:20221109T152259Z
UID:10000259-1667073600-1667073600@www.raal.be
SUMMARY:Journée 11 : RAAL - Ninove
DESCRIPTION:
URL:https://www.raal.be/event/journee-11-raal-ninove/
LOCATION:Stade du Tivoli\, Boulevard du Tivoli\, La Louvière\, Hainaut\, 7100\, Belgium
CATEGORIES:Match Hommes
GEO:50.4783523;4.200953
X-APPLE-STRUCTURED-LOCATION;VALUE=URI;X-ADDRESS=Stade du Tivoli Boulevard du Tivoli La Louvière Hainaut 7100 Belgium;X-APPLE-RADIUS=500;X-TITLE=Boulevard du Tivoli:geo:4.200953,50.4783523
END:VEVENT
BEGIN:VEVENT
DTSTART;TZID=Europe/Brussels:20221015T200000
DTEND;TZID=Europe/Brussels:20221015T200000
DTSTAMP:20260421T035901
CREATED:20220623T095253Z
LAST-MODIFIED:20221027T140133Z
UID:10000256-1665864000-1665864000@www.raal.be
SUMMARY:Journée 09 : RAAL - Hoogstraten
DESCRIPTION:
URL:https://www.raal.be/event/journee-09-raal-hoogstraten/
LOCATION:Stade du Tivoli\, Boulevard du Tivoli\, La Louvière\, Hainaut\, 7100\, Belgium
CATEGORIES:Match Hommes
GEO:50.4783523;4.200953
X-APPLE-STRUCTURED-LOCATION;VALUE=URI;X-ADDRESS=Stade du Tivoli Boulevard du Tivoli La Louvière Hainaut 7100 Belgium;X-APPLE-RADIUS=500;X-TITLE=Boulevard du Tivoli:geo:4.200953,50.4783523
END:VEVENT
BEGIN:VEVENT
DTSTART;TZID=Europe/Brussels:20221001T200000
DTEND;TZID=Europe/Brussels:20221001T200000
DTSTAMP:20260421T035901
CREATED:20220623T094510Z
LAST-MODIFIED:20221027T140048Z
UID:10000254-1664654400-1664654400@www.raal.be
SUMMARY:Journée 07 : RAAL - Charleroi U23
DESCRIPTION:
URL:https://www.raal.be/event/journee-07-raal-charleroi-u23/
LOCATION:Stade du Tivoli\, Boulevard du Tivoli\, La Louvière\, Hainaut\, 7100\, Belgium
CATEGORIES:Match Hommes
GEO:50.4783523;4.200953
X-APPLE-STRUCTURED-LOCATION;VALUE=URI;X-ADDRESS=Stade du Tivoli Boulevard du Tivoli La Louvière Hainaut 7100 Belgium;X-APPLE-RADIUS=500;X-TITLE=Boulevard du Tivoli:geo:4.200953,50.4783523
END:VEVENT
BEGIN:VEVENT
DTSTART;TZID=Europe/Brussels:20220917T200000
DTEND;TZID=Europe/Brussels:20220917T200000
DTSTAMP:20260421T035901
CREATED:20220623T093328Z
LAST-MODIFIED:20220919T090358Z
UID:10000252-1663444800-1663444800@www.raal.be
SUMMARY:Journée 05 : RAAL - Olympic
DESCRIPTION:
URL:https://www.raal.be/event/journee-05-raal-olympic/
LOCATION:Stade du Tivoli\, Boulevard du Tivoli\, La Louvière\, Hainaut\, 7100\, Belgium
CATEGORIES:Match Hommes
GEO:50.4783523;4.200953
X-APPLE-STRUCTURED-LOCATION;VALUE=URI;X-ADDRESS=Stade du Tivoli Boulevard du Tivoli La Louvière Hainaut 7100 Belgium;X-APPLE-RADIUS=500;X-TITLE=Boulevard du Tivoli:geo:4.200953,50.4783523
END:VEVENT
BEGIN:VEVENT
DTSTART;TZID=Europe/Brussels:20220903T200000
DTEND;TZID=Europe/Brussels:20220903T200000
DTSTAMP:20260421T035901
CREATED:20220623T092655Z
LAST-MODIFIED:20220906T114935Z
UID:10000250-1662235200-1662235200@www.raal.be
SUMMARY:Journée 03 : RAAL - Mandel United
DESCRIPTION:
URL:https://www.raal.be/event/match-03-raal-mandel-united/
LOCATION:Stade du Tivoli\, Boulevard du Tivoli\, La Louvière\, Hainaut\, 7100\, Belgium
CATEGORIES:Match Hommes
GEO:50.4783523;4.200953
X-APPLE-STRUCTURED-LOCATION;VALUE=URI;X-ADDRESS=Stade du Tivoli Boulevard du Tivoli La Louvière Hainaut 7100 Belgium;X-APPLE-RADIUS=500;X-TITLE=Boulevard du Tivoli:geo:4.200953,50.4783523
END:VEVENT
BEGIN:VEVENT
DTSTART;TZID=Europe/Brussels:20220821T160000
DTEND;TZID=Europe/Brussels:20220821T160000
DTSTAMP:20260421T035901
CREATED:20220816T154842Z
LAST-MODIFIED:20220822T152616Z
UID:10000299-1661097600-1661097600@www.raal.be
SUMMARY:RAAL - Lyra-Lierse
DESCRIPTION:
URL:https://www.raal.be/event/raal-lyra-lierse/
LOCATION:Stade du Tivoli\, Boulevard du Tivoli\, La Louvière\, Hainaut\, 7100\, Belgium
CATEGORIES:Match Hommes
GEO:50.4783523;4.200953
X-APPLE-STRUCTURED-LOCATION;VALUE=URI;X-ADDRESS=Stade du Tivoli Boulevard du Tivoli La Louvière Hainaut 7100 Belgium;X-APPLE-RADIUS=500;X-TITLE=Boulevard du Tivoli:geo:4.200953,50.4783523
END:VEVENT
BEGIN:VEVENT
DTSTART;TZID=Europe/Brussels:20220817T200000
DTEND;TZID=Europe/Brussels:20220817T200000
DTSTAMP:20260421T035901
CREATED:20220623T092138Z
LAST-MODIFIED:20220822T153014Z
UID:10000248-1660766400-1660766400@www.raal.be
SUMMARY:Journée 01 : RAAL - Maasmechelen
DESCRIPTION:
URL:https://www.raal.be/event/journee-01-raal-maasmechelen/
LOCATION:Stade du Tivoli\, Boulevard du Tivoli\, La Louvière\, Hainaut\, 7100\, Belgium
CATEGORIES:Match Hommes
GEO:50.4783523;4.200953
X-APPLE-STRUCTURED-LOCATION;VALUE=URI;X-ADDRESS=Stade du Tivoli Boulevard du Tivoli La Louvière Hainaut 7100 Belgium;X-APPLE-RADIUS=500;X-TITLE=Boulevard du Tivoli:geo:4.200953,50.4783523
END:VEVENT
BEGIN:VEVENT
DTSTART;TZID=Europe/Brussels:20220727T200000
DTEND;TZID=Europe/Brussels:20220727T200000
DTSTAMP:20260421T035901
CREATED:20220622T110608Z
LAST-MODIFIED:20220801T092633Z
UID:10000246-1658952000-1658952000@www.raal.be
SUMMARY:Amical : RAAL - Brakel (D2 VV)
DESCRIPTION:
URL:https://www.raal.be/event/amical-raal-brakel-d2-vv/
LOCATION:Stade du Tivoli\, Boulevard du Tivoli\, La Louvière\, Hainaut\, 7100\, Belgium
CATEGORIES:Match Hommes
GEO:50.4783523;4.200953
X-APPLE-STRUCTURED-LOCATION;VALUE=URI;X-ADDRESS=Stade du Tivoli Boulevard du Tivoli La Louvière Hainaut 7100 Belgium;X-APPLE-RADIUS=500;X-TITLE=Boulevard du Tivoli:geo:4.200953,50.4783523
END:VEVENT
BEGIN:VEVENT
DTSTART;TZID=Europe/Brussels:20211127T200000
DTEND;TZID=Europe/Brussels:20211127T200000
DTSTAMP:20260421T035901
CREATED:20210706T090304Z
LAST-MODIFIED:20211129T095846Z
UID:10000213-1638043200-1638043200@www.raal.be
SUMMARY:D2 ACFF (J14) : RAAL - Verlaine
DESCRIPTION:
URL:https://www.raal.be/event/d2-acff-j14-raal-verlaine/
LOCATION:Stade du Tivoli\, Boulevard du Tivoli\, La Louvière\, Hainaut\, 7100\, Belgium
CATEGORIES:Match Hommes
GEO:50.4783523;4.200953
X-APPLE-STRUCTURED-LOCATION;VALUE=URI;X-ADDRESS=Stade du Tivoli Boulevard du Tivoli La Louvière Hainaut 7100 Belgium;X-APPLE-RADIUS=500;X-TITLE=Boulevard du Tivoli:geo:4.200953,50.4783523
END:VEVENT
BEGIN:VEVENT
DTSTART;TZID=Europe/Brussels:20211114T150000
DTEND;TZID=Europe/Brussels:20211114T150000
DTSTAMP:20260421T035901
CREATED:20210706T085950Z
LAST-MODIFIED:20211116T125332Z
UID:10000211-1636902000-1636902000@www.raal.be
SUMMARY:D2 ACFF (J12) : RAAL - Waremme
DESCRIPTION:
URL:https://www.raal.be/event/d2-acff-j12-raal-waremme/
LOCATION:Stade du Tivoli\, Boulevard du Tivoli\, La Louvière\, Hainaut\, 7100\, Belgium
CATEGORIES:Match Hommes
GEO:50.4783523;4.200953
X-APPLE-STRUCTURED-LOCATION;VALUE=URI;X-ADDRESS=Stade du Tivoli Boulevard du Tivoli La Louvière Hainaut 7100 Belgium;X-APPLE-RADIUS=500;X-TITLE=Boulevard du Tivoli:geo:4.200953,50.4783523
END:VEVENT
BEGIN:VEVENT
DTSTART;TZID=Europe/Brussels:20211031T150000
DTEND;TZID=Europe/Brussels:20211031T150000
DTSTAMP:20260421T035901
CREATED:20210706T085646Z
LAST-MODIFIED:20211103T145031Z
UID:10000209-1635692400-1635692400@www.raal.be
SUMMARY:D2 ACFF (J10) : RAAL - Lessines
DESCRIPTION:
URL:https://www.raal.be/event/d2-acff-j10-raal-lessines/
LOCATION:Stade du Tivoli\, Boulevard du Tivoli\, La Louvière\, Hainaut\, 7100\, Belgium
CATEGORIES:Match Hommes
GEO:50.4783523;4.200953
X-APPLE-STRUCTURED-LOCATION;VALUE=URI;X-ADDRESS=Stade du Tivoli Boulevard du Tivoli La Louvière Hainaut 7100 Belgium;X-APPLE-RADIUS=500;X-TITLE=Boulevard du Tivoli:geo:4.200953,50.4783523
END:VEVENT
BEGIN:VEVENT
DTSTART;TZID=Europe/Brussels:20211027T204500
DTEND;TZID=Europe/Brussels:20211027T204500
DTSTAMP:20260421T035901
CREATED:20210924T160615Z
LAST-MODIFIED:20211029T102810Z
UID:10000242-1635367500-1635367500@www.raal.be
SUMMARY:Croky Cup (16e) : RAAL - Anderlecht
DESCRIPTION:
URL:https://www.raal.be/event/croky-cup-16e-de-finale-raal-anderlecht/
LOCATION:Stade du Tivoli\, Boulevard du Tivoli\, La Louvière\, Hainaut\, 7100\, Belgium
CATEGORIES:Match Hommes
GEO:50.4783523;4.200953
X-APPLE-STRUCTURED-LOCATION;VALUE=URI;X-ADDRESS=Stade du Tivoli Boulevard du Tivoli La Louvière Hainaut 7100 Belgium;X-APPLE-RADIUS=500;X-TITLE=Boulevard du Tivoli:geo:4.200953,50.4783523
END:VEVENT
BEGIN:VEVENT
DTSTART;TZID=Europe/Brussels:20211023T200000
DTEND;TZID=Europe/Brussels:20211023T200000
DTSTAMP:20260421T035901
CREATED:20210706T085529Z
LAST-MODIFIED:20211029T161917Z
UID:10000208-1635019200-1635019200@www.raal.be
SUMMARY:D2 ACFF (J09) : RAAL - Givry
DESCRIPTION:
URL:https://www.raal.be/event/d2-acff-j09-raal-givry/
LOCATION:Stade du Tivoli\, Boulevard du Tivoli\, La Louvière\, Hainaut\, 7100\, Belgium
CATEGORIES:Match Hommes
GEO:50.4783523;4.200953
X-APPLE-STRUCTURED-LOCATION;VALUE=URI;X-ADDRESS=Stade du Tivoli Boulevard du Tivoli La Louvière Hainaut 7100 Belgium;X-APPLE-RADIUS=500;X-TITLE=Boulevard du Tivoli:geo:4.200953,50.4783523
END:VEVENT
BEGIN:VEVENT
DTSTART;TZID=Europe/Brussels:20211009T200000
DTEND;TZID=Europe/Brussels:20211009T200000
DTSTAMP:20260421T035901
CREATED:20210706T085223Z
LAST-MODIFIED:20211011T161314Z
UID:10000206-1633809600-1633809600@www.raal.be
SUMMARY:D2 ACFF (J07) : RAAL - Warnant
DESCRIPTION:
URL:https://www.raal.be/event/d2-acff-j07-raal-warnant/
LOCATION:Stade du Tivoli\, Boulevard du Tivoli\, La Louvière\, Hainaut\, 7100\, Belgium
CATEGORIES:Match Hommes
GEO:50.4783523;4.200953
X-APPLE-STRUCTURED-LOCATION;VALUE=URI;X-ADDRESS=Stade du Tivoli Boulevard du Tivoli La Louvière Hainaut 7100 Belgium;X-APPLE-RADIUS=500;X-TITLE=Boulevard du Tivoli:geo:4.200953,50.4783523
END:VEVENT
BEGIN:VEVENT
DTSTART;TZID=Europe/Brussels:20210925T200000
DTEND;TZID=Europe/Brussels:20210925T200000
DTSTAMP:20260421T035901
CREATED:20210706T084945Z
LAST-MODIFIED:20210927T123123Z
UID:10000204-1632600000-1632600000@www.raal.be
SUMMARY:D2 ACFF (J05) : RAAL - Solières
DESCRIPTION:
URL:https://www.raal.be/event/d2-acff-j05-raal-solieres/
LOCATION:Stade du Tivoli\, Boulevard du Tivoli\, La Louvière\, Hainaut\, 7100\, Belgium
CATEGORIES:Match Hommes
GEO:50.4783523;4.200953
X-APPLE-STRUCTURED-LOCATION;VALUE=URI;X-ADDRESS=Stade du Tivoli Boulevard du Tivoli La Louvière Hainaut 7100 Belgium;X-APPLE-RADIUS=500;X-TITLE=Boulevard du Tivoli:geo:4.200953,50.4783523
END:VEVENT
BEGIN:VEVENT
DTSTART;TZID=Europe/Brussels:20210901T200000
DTEND;TZID=Europe/Brussels:20210901T200000
DTSTAMP:20260421T035901
CREATED:20210705T122236Z
LAST-MODIFIED:20210902T095629Z
UID:10000200-1630526400-1630526400@www.raal.be
SUMMARY:D2 ACFF (J01) : RAAL - Hamoir
DESCRIPTION:
URL:https://www.raal.be/event/d2-acff-j01-raal-hamoir/
LOCATION:Stade du Tivoli\, Boulevard du Tivoli\, La Louvière\, Hainaut\, 7100\, Belgium
CATEGORIES:Match Hommes
GEO:50.4783523;4.200953
X-APPLE-STRUCTURED-LOCATION;VALUE=URI;X-ADDRESS=Stade du Tivoli Boulevard du Tivoli La Louvière Hainaut 7100 Belgium;X-APPLE-RADIUS=500;X-TITLE=Boulevard du Tivoli:geo:4.200953,50.4783523
END:VEVENT
BEGIN:VEVENT
DTSTART;TZID=Europe/Brussels:20210829T160000
DTEND;TZID=Europe/Brussels:20210829T160000
DTSTAMP:20260421T035901
CREATED:20210823T120000Z
LAST-MODIFIED:20210830T144411Z
UID:10000241-1630252800-1630252800@www.raal.be
SUMMARY:Croky Cup : RAAL - Dikkelvenne (D2)
DESCRIPTION:
URL:https://www.raal.be/event/croky-cup-raal-dikkelvenne-d2/
LOCATION:Stade du Tivoli\, Boulevard du Tivoli\, La Louvière\, Hainaut\, 7100\, Belgium
CATEGORIES:Match Hommes
GEO:50.4783523;4.200953
X-APPLE-STRUCTURED-LOCATION;VALUE=URI;X-ADDRESS=Stade du Tivoli Boulevard du Tivoli La Louvière Hainaut 7100 Belgium;X-APPLE-RADIUS=500;X-TITLE=Boulevard du Tivoli:geo:4.200953,50.4783523
END:VEVENT
END:VCALENDAR