BEGIN:VCALENDAR
VERSION:2.0
PRODID:-//RAAL La Louvi&egrave;re - ECPv6.15.17.1//NONSGML v1.0//EN
CALSCALE:GREGORIAN
METHOD:PUBLISH
X-WR-CALNAME:RAAL La Louvi&egrave;re
X-ORIGINAL-URL:https://www.raal.be
X-WR-CALDESC:Évènements pour RAAL La Louvi&egrave;re
REFRESH-INTERVAL;VALUE=DURATION:PT1H
X-Robots-Tag:noindex
X-PUBLISHED-TTL:PT1H
BEGIN:VTIMEZONE
TZID:Europe/Brussels
BEGIN:DAYLIGHT
TZOFFSETFROM:+0100
TZOFFSETTO:+0200
TZNAME:CEST
DTSTART:20220327T010000
END:DAYLIGHT
BEGIN:STANDARD
TZOFFSETFROM:+0200
TZOFFSETTO:+0100
TZNAME:CET
DTSTART:20221030T010000
END:STANDARD
BEGIN:DAYLIGHT
TZOFFSETFROM:+0100
TZOFFSETTO:+0200
TZNAME:CEST
DTSTART:20230326T010000
END:DAYLIGHT
BEGIN:STANDARD
TZOFFSETFROM:+0200
TZOFFSETTO:+0100
TZNAME:CET
DTSTART:20231029T010000
END:STANDARD
BEGIN:DAYLIGHT
TZOFFSETFROM:+0100
TZOFFSETTO:+0200
TZNAME:CEST
DTSTART:20240331T010000
END:DAYLIGHT
BEGIN:STANDARD
TZOFFSETFROM:+0200
TZOFFSETTO:+0100
TZNAME:CET
DTSTART:20241027T010000
END:STANDARD
END:VTIMEZONE
BEGIN:VEVENT
DTSTART;TZID=Europe/Brussels:20230121T200000
DTEND;TZID=Europe/Brussels:20230121T200000
DTSTAMP:20260421T034043
CREATED:20220623T104359Z
LAST-MODIFIED:20230124T095305Z
UID:10000278-1674331200-1674331200@www.raal.be
SUMMARY:Journée 21 : Mandel United - RAAL
DESCRIPTION:
URL:https://www.raal.be/event/journee-21-mandel-united-raal/
LOCATION:Stedelijk Sportstadion\, St-Jorisstraat \, 64/2 B\, Izegem\, Belgium
CATEGORIES:Match Hommes
GEO:50.9107861;3.2071924
X-APPLE-STRUCTURED-LOCATION;VALUE=URI;X-ADDRESS=Stedelijk Sportstadion St-Jorisstraat  64/2 B Izegem Belgium;X-APPLE-RADIUS=500;X-TITLE=St-Jorisstraat \, 64/2 B:geo:3.2071924,50.9107861
END:VEVENT
END:VCALENDAR